BEGIN:VCALENDAR
VERSION:2.0
PRODID:-//UKSG - ECPv6.15.17.1//NONSGML v1.0//EN
CALSCALE:GREGORIAN
METHOD:PUBLISH
X-WR-CALNAME:UKSG
X-ORIGINAL-URL:https://www.uksg.org
X-WR-CALDESC:Events for UKSG
REFRESH-INTERVAL;VALUE=DURATION:PT1H
X-Robots-Tag:noindex
X-PUBLISHED-TTL:PT1H
BEGIN:VTIMEZONE
TZID:Europe/London
BEGIN:DAYLIGHT
TZOFFSETFROM:+0000
TZOFFSETTO:+0100
TZNAME:BST
DTSTART:20160327T010000
END:DAYLIGHT
BEGIN:STANDARD
TZOFFSETFROM:+0100
TZOFFSETTO:+0000
TZNAME:GMT
DTSTART:20161030T010000
END:STANDARD
BEGIN:DAYLIGHT
TZOFFSETFROM:+0000
TZOFFSETTO:+0100
TZNAME:BST
DTSTART:20170326T010000
END:DAYLIGHT
BEGIN:STANDARD
TZOFFSETFROM:+0100
TZOFFSETTO:+0000
TZNAME:GMT
DTSTART:20171029T010000
END:STANDARD
BEGIN:DAYLIGHT
TZOFFSETFROM:+0000
TZOFFSETTO:+0100
TZNAME:BST
DTSTART:20180325T010000
END:DAYLIGHT
BEGIN:STANDARD
TZOFFSETFROM:+0100
TZOFFSETTO:+0000
TZNAME:GMT
DTSTART:20181028T010000
END:STANDARD
END:VTIMEZONE
BEGIN:VEVENT
DTSTART;TZID=Europe/London:20171005T100000
DTEND;TZID=Europe/London:20171005T100000
DTSTAMP:20260419T234504
CREATED:20241008T133508Z
LAST-MODIFIED:20241008T193405Z
UID:15938-1507197600-1507197600@www.uksg.org
SUMMARY:UKSG Introduction to E-Resources Today: London
DESCRIPTION:Course summary This one-day seminar aims to present a practical introductory overview of all aspects of e-resources management\, encompassing e-journals\, e-books and bibliographic and full-text databases. The emphasis is on developing a sound basic understanding of the details of e-resources handling in order to promote efficient and informed working practices.  A wide range of day-to-day issues will be covered\, with time devoted to recognising and resolving the problems that can arise at the boundaries between publishers\, intermediaries and libraries\, and addressing business models such as open access.  In addition\, the seminar will provide a forum for a group discussion on the current issues and opportunities offered by e-books. Delegates will be able to air and exchange views in the discussion session after each presentation. Why you should attend Designed particularly for staff who are new to working with e-resources\, whether from a publisher\, an intermediary or a library\, this seminar may also be of interest to those looking to consolidate and update their e-resources knowledge.  Course level and previous knowledge required Introductory and non-intensive\, entry-level training for the beginner\, novice or returner. Learning objectives •    To understand the key elements involved in e-resources management\, including how e-resources are purchased\, promoted and managed•    To understand the key processes within e-resources publishing\, including editorial and marketing\, pricing and licensing•    To understand the role of intermediaries and to be aware of the growing range of electronic access services offered•    To gain a broad awareness of the current issues involved in the acquisition and management of e-books. Fee UKSG members:   £165.00 + £33.00 VAT [20%] (total £198.00)Non-members:   £215.00 + £43.00 VAT [20%] (total £258.00) The fee includes refreshments and lunch. Venue The King’s FundNo. 11 Cavendish Square (Edwards Room)LondonW1G 0AN Tel.: 020 7307 2474 (Reception) Programme 10.00   Registration and coffee    10.20   Welcome and introduction by the Chair and UKSG representativeDiana Massam\, Senior Development Officer\, Jisc 10.30   Managing journal content in the online world  Sarah Lowe\, E-Resources and Subscriptions Librarian\, University of BrightonThe importance of journals (print and electronic) and e-resources\, and how they are purchased\, promoted and managed    11.15   Discussion 11.30   Break 11.45   The business of e-resources publishing  Helen Ellis\, Regional Sales Manager\, IOP PublishingThe key processes within commercial e-resources publishing\, including launch\, economics\, editorial and marketing\, pricing models\, licensing and delivering electronically 12.30   Discussion 12.45   Lunch 13.30   Managing e-book content   Erica Lee\, Information Resources Specialist\, Aston UniversityThe importance of e-books and how they are purchased\, promoted and managed 14.00   E-books: a round table led by the ChairA forum in which to explore e-books – topics\, problems\, issues and opportunities for the community 14.30   Break 14.45   Intermediaries and their services  Caroline Mackay\, Licensing Manager\, Jisc CollectionsThe development of intermediaries\, the role of the intermediary\, and a review of the new players and the growing range of online access services offered 15.30   Discussion 15.45   Final summing up and close of seminar Feedback from the June 2017 seminar “I thought that the course was very comprehensive\, and was a great introduction. I wish I had attended about two years ago\, when I first took on this role\, as it would have been even more helpful for me then\, but at least it gave me confidence that I know most of what I need to know\, but also raised a few questions that I want to investigate further.” “E-books are an area where I don’t have a lot of experience so it was great to get a better insight and expand my knowledge.” “Good variety\, great entry-level introduction to e-resources.“ How to book Booking for this course has now closed.  For further information please contact Karen Sadler at UKSG by e-mail or by phone: +44 (0)1865 310834. Venue location details will be sent with confirmation of booking. Cancellations By Wednesday 27 September 2017 – full refundFrom Thursday 28 September 2017 – no refund NB:  UKSG reserves the right to alter or vary the programme due to events or circumstances beyond its reasonable control without being obliged to refund monies.
URL:https://www.uksg.org/events/uksg-introduction-to-e-resources-today-london-3/
CATEGORIES:Conference
ATTACH;FMTTYPE=:
END:VEVENT
END:VCALENDAR