BEGIN:VCALENDAR
VERSION:2.0
PRODID:-//UKSG - ECPv6.15.17.1//NONSGML v1.0//EN
CALSCALE:GREGORIAN
METHOD:PUBLISH
X-WR-CALNAME:UKSG
X-ORIGINAL-URL:https://www.uksg.org
X-WR-CALDESC:Events for UKSG
REFRESH-INTERVAL;VALUE=DURATION:PT1H
X-Robots-Tag:noindex
X-PUBLISHED-TTL:PT1H
BEGIN:VTIMEZONE
TZID:Europe/London
BEGIN:DAYLIGHT
TZOFFSETFROM:+0000
TZOFFSETTO:+0100
TZNAME:BST
DTSTART:20160327T010000
END:DAYLIGHT
BEGIN:STANDARD
TZOFFSETFROM:+0100
TZOFFSETTO:+0000
TZNAME:GMT
DTSTART:20161030T010000
END:STANDARD
BEGIN:DAYLIGHT
TZOFFSETFROM:+0000
TZOFFSETTO:+0100
TZNAME:BST
DTSTART:20170326T010000
END:DAYLIGHT
BEGIN:STANDARD
TZOFFSETFROM:+0100
TZOFFSETTO:+0000
TZNAME:GMT
DTSTART:20171029T010000
END:STANDARD
BEGIN:DAYLIGHT
TZOFFSETFROM:+0000
TZOFFSETTO:+0100
TZNAME:BST
DTSTART:20180325T010000
END:DAYLIGHT
BEGIN:STANDARD
TZOFFSETFROM:+0100
TZOFFSETTO:+0000
TZNAME:GMT
DTSTART:20181028T010000
END:STANDARD
END:VTIMEZONE
BEGIN:VEVENT
DTSTART;TZID=Europe/London:20170516T120000
DTEND;TZID=Europe/London:20170516T120000
DTSTAMP:20260420T071224
CREATED:20241008T115734Z
LAST-MODIFIED:20241008T182105Z
UID:15343-1494936000-1494936000@www.uksg.org
SUMMARY:Free UKSG webinar - Digital resources and library services: meeting the challenge of engagement
DESCRIPTION:This webinar is based on experiences of working over the past two years with a number of further education (FE) colleges to help them increase engagement with digital resources and library services. It draws on the recommendations of a number of librarians/learning resources managers on how they have increased engagement with\, and use of\, their resources. The emphasis will be on non-technical approaches to enhance student experience\, learning and teaching. Join Lis Parcell\, Jisc and Elizabeth Newbold\, Activate Learning for the next\, free webinar. Further information and registration.
URL:https://www.uksg.org/events/free-uksg-webinar-digital-resources-and-library-services-meeting-the-challenge-of-engagement/
CATEGORIES:Conference
ATTACH;FMTTYPE=:
END:VEVENT
END:VCALENDAR