BEGIN:VCALENDAR
VERSION:2.0
PRODID:-//UKSG - ECPv6.15.17.1//NONSGML v1.0//EN
CALSCALE:GREGORIAN
METHOD:PUBLISH
X-WR-CALNAME:UKSG
X-ORIGINAL-URL:https://www.uksg.org
X-WR-CALDESC:Events for UKSG
REFRESH-INTERVAL;VALUE=DURATION:PT1H
X-Robots-Tag:noindex
X-PUBLISHED-TTL:PT1H
BEGIN:VTIMEZONE
TZID:Europe/London
BEGIN:DAYLIGHT
TZOFFSETFROM:+0000
TZOFFSETTO:+0100
TZNAME:BST
DTSTART:20160327T010000
END:DAYLIGHT
BEGIN:STANDARD
TZOFFSETFROM:+0100
TZOFFSETTO:+0000
TZNAME:GMT
DTSTART:20161030T010000
END:STANDARD
BEGIN:DAYLIGHT
TZOFFSETFROM:+0000
TZOFFSETTO:+0100
TZNAME:BST
DTSTART:20170326T010000
END:DAYLIGHT
BEGIN:STANDARD
TZOFFSETFROM:+0100
TZOFFSETTO:+0000
TZNAME:GMT
DTSTART:20171029T010000
END:STANDARD
BEGIN:DAYLIGHT
TZOFFSETFROM:+0000
TZOFFSETTO:+0100
TZNAME:BST
DTSTART:20180325T010000
END:DAYLIGHT
BEGIN:STANDARD
TZOFFSETFROM:+0100
TZOFFSETTO:+0000
TZNAME:GMT
DTSTART:20181028T010000
END:STANDARD
END:VTIMEZONE
BEGIN:VEVENT
DTSTART;TZID=Europe/London:20170110T140000
DTEND;TZID=Europe/London:20170110T140000
DTSTAMP:20260420T131940
CREATED:20241008T120128Z
LAST-MODIFIED:20241008T182059Z
UID:15405-1484056800-1484056800@www.uksg.org
SUMMARY:Free UKSG webinar: Optimizing the discovery experience through dialogue – a community approach
DESCRIPTION:How best can libraries\, content providers and discovery service providers work together to  optimize the discovery service experience? This free webinar is open to all and will give voice to content providers and librarians who will share their perspectives on library discovery systems and will then discuss how the NISO Open Discovery Initiative (ODI) can help navigate the challenges. Speakers:Lettie Conrad\, Publishing and Product Development ConsultantKathleen Donovan\, Research Librarian\, Harvard UniversityBruce Heterick\, Vice President\, Outreach & Participation Services\, ITHAKA/JSTORRachel Kessler\, Product Manager\, ProQuestAlexa Pearce\, Head of Social Sciences at the University of Michigan Library\, University of MichiganMore information and registration.
URL:https://www.uksg.org/events/free-uksg-webinar-optimizing-the-discovery-experience-through-dialogue-a-community-approach/
CATEGORIES:Conference
ATTACH;FMTTYPE=:
END:VEVENT
END:VCALENDAR