BEGIN:VCALENDAR
VERSION:2.0
PRODID:-//UKSG - ECPv6.15.17.1//NONSGML v1.0//EN
CALSCALE:GREGORIAN
METHOD:PUBLISH
X-ORIGINAL-URL:https://www.uksg.org
X-WR-CALDESC:Events for UKSG
REFRESH-INTERVAL;VALUE=DURATION:PT1H
X-Robots-Tag:noindex
X-PUBLISHED-TTL:PT1H
BEGIN:VTIMEZONE
TZID:Europe/London
BEGIN:DAYLIGHT
TZOFFSETFROM:+0000
TZOFFSETTO:+0100
TZNAME:BST
DTSTART:20150329T010000
END:DAYLIGHT
BEGIN:STANDARD
TZOFFSETFROM:+0100
TZOFFSETTO:+0000
TZNAME:GMT
DTSTART:20151025T010000
END:STANDARD
BEGIN:DAYLIGHT
TZOFFSETFROM:+0000
TZOFFSETTO:+0100
TZNAME:BST
DTSTART:20160327T010000
END:DAYLIGHT
BEGIN:STANDARD
TZOFFSETFROM:+0100
TZOFFSETTO:+0000
TZNAME:GMT
DTSTART:20161030T010000
END:STANDARD
BEGIN:DAYLIGHT
TZOFFSETFROM:+0000
TZOFFSETTO:+0100
TZNAME:BST
DTSTART:20170326T010000
END:DAYLIGHT
BEGIN:STANDARD
TZOFFSETFROM:+0100
TZOFFSETTO:+0000
TZNAME:GMT
DTSTART:20171029T010000
END:STANDARD
END:VTIMEZONE
BEGIN:VEVENT
DTSTART;TZID=Europe/London:20161101T130000
DTEND;TZID=Europe/London:20161101T130000
DTSTAMP:20260420T160924
CREATED:20241008T115817Z
LAST-MODIFIED:20241008T193858Z
UID:15365-1478005200-1478005200@www.uksg.org
SUMMARY:Free UKSG webinar - Mess and the Practices of Academia
DESCRIPTION:In this webinar\, Donna Lanclos will discuss her anthropological research concerning academic practice\, its fundamental messiness\, and the implications of that for institutions of HE\, libraries\, and vendors designing and selling systems. Information and registration.
URL:https://www.uksg.org/events/free-uksg-webinar-mess-and-the-practices-of-academia/
CATEGORIES:Conference
ATTACH;FMTTYPE=:
END:VEVENT
BEGIN:VEVENT
DTSTART;TZID=Europe/London:20161116T090000
DTEND;TZID=Europe/London:20161116T090000
DTSTAMP:20260420T160924
CREATED:20241008T133438Z
LAST-MODIFIED:20241008T171401Z
UID:15929-1479286800-1479286800@www.uksg.org
SUMMARY:UKSG Forum: London
DESCRIPTION:The innovation game: breaking the rules\n\n\n\nFree to UKSG members\n\n\n\nNow in its fourth year\, the UKSG Forum is the essential ‘London-based pre-Christmas’ event in the scholarly communications calendar.  Supporting UKSG’s mission ‘to connect the knowledge community and encourage the exchange of ideas on scholarly communication’\, the UKSG Forum offers short sessions on best practice and interesting projects.  This highly anticipated meeting is free for UKSG members to attend\, attracting nearly 400 delegates and offering a comprehensive exhibition\, together with ample networking opportunities. \n\n\n\nWith thanks to the Forum’s generous sponsors:\n\n\n\nPremium \n\n\n\n  \n\n\n\nStandard \n\n\n\n      \n\n\n\nThe innovation game: breaking the rules – #UKSGforum16\n\n\n\nThis year the Forum’s focus is on innovation.  Not all invention comes out of the ‘light bulb’ moment\, often innovation is born out of periods of adversity where bending or breaking our preconceived ideas is the only way forward.  In such environments\, new business models\, new workflows\, new offers\, new collaborations can form to overcome such barriers and UKSG Forum delegates want to hear about them. \n\n\n\nPROGRAMME\n\n\n\n09:15   Registration \n\n\n\n09:45   Welcome and introduction by David Summers and Yann Amouroux\,UKSG Forum Working Group Co-Chairs\n\n\n\n10:00-10:30 Systems and Technology\n\n\n\n\nTracy Gardner (Simon Inger Consulting): Time to ditch the RDS? Evidence from reader study\n\n\n\nVicki McGarvey (Staffordshire University): Let the users have their say! Impromptu conversations about resource discovery tools  \n\n\n\nRichard Burkitt (EBSCO): Rethinking the LMS\n\n\n\n\n10:40-11:10Data\n\n\n\n\nSara Gould (British Library): Data mining the UK’s theses  \n\n\n\nColleen Campbell (ITHAKA International): Text mining research journals: the whole is greater than the sum of its parts\n\n\n\nGemma Hersh (Elsevier): Text and data mining: how publishers are supporting researchers \n\n\n\n\n11:20-11:50Library Interaction\n\n\n\n\nWendy Morris (Kingston University) and Leo Appleton (University of the Arts London): The Librarian as Superhero – time to break the mould\n\n\n\nSarah Pittaway (University of Worcester): When is a librarian not a librarian?\n\n\n\nJulian Wood (University of Bristol): Personal Knowledge Management \n\n\n\n\n12:00-12:30Library engagement and impact\n\n\n\n\nKirsty Baker (Open University): Does use of online libraries impact on student success?   \n\n\n\nRebekah Fleming and Josh Sendall (Lancaster University): Inspiring evolution: changing the working culture of the library through innovative practice\n\n\n\nVanya Gallimore (University of York): Action plans and understanding academics: creative ways of engaging and supporting our academic colleagues\n\n\n\n\n12:00   Lunch\n\n\n\n13:30-14:00Thinking Smarter\n\n\n\n\nRick Anderson (University of Utah): Better\, not newer: why I’m ambivalent about innovation\n\n\n\nAndy Tattersall (University of Sheffield): Research Hacks – using animation to teach academics how to share their research and work smarter \n\n\n\n\n14:10-14:40Publishing Innovation\n\n\n\n\nKat Palmer (Emerald Group Publishing): Speeding up publishing through innovation\n\n\n\nTimon Oefelein (Springer Nature): Publishing innovation (Bookmetrix\, Open Peer Review\, Publons partnership)\n\n\n\nTom Mowlam (Ubiquity Press): Innovation from the margins: how new players in publishing are driving change  \n\n\n\n\n14:50-15:20Data\n\n\n\n\nAndrew Pitts (PSI Ltd): An introduction to the IPregistry.org\n\n\n\nTasha Mellins-Cohen (Semantico): Material properties: interactive data visualisations for students  \n\n\n\nHannah DeGroff (Jisc): Exposing ORCIDs through IRUS-UK  \n\n\n\n\n15:30-16:00Library Interaction\n\n\n\n\nGrant Powell (Kanopy): True impact: the pursuit for gauging academic success\, not just usage\n\n\n\nZofia de Jong – Dzwig (Delft University of Technology): Library collection in times of research data\n\n\n\nSuzanne Tatham (University of Sussex): Are our collections really unique? Working with History academics and collection management tools\n\n\n\n\n16:00   Drinks reception \n\n\n\n17:00   Close\n\n\n\n \n\n\n\nATTENDANCE LIST\n\n\n\nNow available \n\n\n\nEXHIBITION GUIDE\n\n\n\nFREE TO UKSG MEMBERS\n\n\n\nCheck if your organisation is a UKSG member.\n\n\n\n \n\n\n\nNon-members can attend for a fee of £75.00 + VAT.  \n\n\n\n \n\n\n\nConsider becoming a UKSG member.\n\n\n\n \n\n\n\nRefreshments and lunch are provided and you will have access to the exhibition where over 40 publishers\, intermediaries and technology vendors will be showcasing their services throughout the day\, all rounded off with a drinks reception.\n\n\n\n \n\n\n\n\nDELEGATE BOOKING\nBooking for the 2016 Forum has now closed.  For further information please contact Karen Sadler \n\n\n\n\n \n\n\n\nPrize Draw Passport\n\n\n\nLook out for the Prize Draw Passport in delegate badgeholders.  \n\n\n\n\nvisit the sponsor stands\n\n\n\nfind out more about their products and services\n\n\n\ncollect the sponsor stickers\n\n\n\npost your completed passport in the box at the registration desk  \n\n\n\nwin prizes!\n\n\n\n\nWinners will be drawn and announced at the Drinks Reception (16:00 in the Drawing Room).\n\n\n\n \n\n\n\nPrize Draw Terms and Conditions\n\n\n\nWhat’s the football connection?\n\n\n\n \nIt was on the site of the Grand Connaught Rooms in 1863 that the Football Association was established and the rules of the game that is now played around the world were first agreed.\n \nIn recognition of this piece of international sporting history\, UKSG Forum delegates are invited to dress in a manner that celebrates the beautiful game.\n \nThere will be a bottle of champagne for the delegate judged to be wearing the most suitable attire. (The referee’s decision will be final!) \n \n\n\n\n\nVenue \n\n\n\n \nGrand Connaught Rooms61-65 Great Queen StreetLondonWC2B 5DA \nT: +44 (0)20 7405 7811W: www.grandconnaughtrooms.com \n\n\n\n\nPlease note that\, although the UKSG Forum takes place at the same time of year as the UKSG One-Day Conference\, it is a separate event and arrangements for attendance at one or both events should be made independently of each other. \n\n\n\nNB: UKSG reserves the right to alter or vary the programme due to events or circumstances beyond its reasonable control without being obliged to refund monies.
URL:https://www.uksg.org/events/forum2016/
CATEGORIES:Conference
ATTACH;FMTTYPE=:
END:VEVENT
BEGIN:VEVENT
DTSTART;TZID=Europe/London:20161130T100000
DTEND;TZID=Europe/London:20161130T100000
DTSTAMP:20260420T160924
CREATED:20241008T133323Z
LAST-MODIFIED:20241008T193858Z
UID:15903-1480500000-1480500000@www.uksg.org
SUMMARY:UKSG E-Resources for Further Education: London
DESCRIPTION:This event is kindly sponsored by:RESOURCING A RICH AND VARIED CURRICULUM:content\, knowledge and skills for Further Education learning resources servicesUKSG is hosting this free event to share ideas and new insights into delivering services in a diverse and demanding further education environment.  This informal gathering will provide a platform for the FE community to share experiences and innovative ideas for delivering and resourcing library and information services in the further education sector.Resourcing a rich and varied curriculum: content\, knowledge and skills covers key areas and challenges in delivering and developing services to support a wide-ranging curriculum and diverse user group.  The event will provide delegates with the opportunity to share tips\, techniques and strategies that can be integrated into their own service and environment.  Examples include: developing learning resources staff skills\, overcoming the challenges of providing services to a diverse student base\, the development and delivery of online support\, developing student skills\, and increasing the usage of electronic resources. This event is FREE to FE institution delegates and includes refreshments and lunch\, as well as a PRIZE DRAW for two fully expensed places at the UKSG 2017 Annual Conference in Harrogate next April! Programme 10.00   Registration and coffee    10.30   Welcome and introduction by the Chair and UKSG representativeElizabeth Newbold\, Group Learning Resources Manager\, Activate Learning10.35   Keynote: Resourcing the digital learner   Lis Parcell\, Subject Specialist: Libraries and Digital Resources\, Jisc11.00   Embedding Es into the curriculum   Karen Foster\, Head of Learning Centres\, Yeovil College11.15   Presentation by JCS Online Resources (EVENT SPONSOR)           Marketing your e-resources can change your library!   Joyce Martin\, DirectorAmy Williams\, Account Executive\, FE Colleges11.30   Break12.00   Delivering e-journals to a vocational Foundation Degree in an FE college   Jocelyn Bailey\, E-Learning & Systems Librarian\, Hackney Community College12.15   Let the users have their say: impromptu conversations about finding resources  Vicki McGarvey\, Learning and Information Services Manager\, Staffordshire University12.30   Moving upward and changing direction   Simon Rice\, Learning Resources Manager\, Barnfield College12.45   Lunch13.45   Getting the most value from your resources   Chris Houghton\, Head of International Training\, Gale14.00   Showcasing iSkills   Hannah Bennett\, Site Librarian and Lorna Hector\, Assistant Librarian\, Guildford College Group14.15   Presentation by EBSCO (EVENT SPONSOR)           EBSCO News – new features\, new benefits\, new services   Richard Smart\, Regional Sales Manager\, Subscription Services & YBPTina Foote\, Field Sales Representative14.30   Troubleshooting (and refreshments)Delegates will have the opportunity to discuss in breakout groups their own challenges and solutions15.20   What I learnt today15.45   PRIZE DRAW15.50   Summing up and close of seminar at 16.00 VenueThe King’s FundNo. 11 Cavendish Square (Edwards Room)LondonW1G 0AN Tel.: 020 7307 2474 (Reception) How to book We are now fully booked.  For further information please contact Karen Sadler at UKSG by e-mail or by phone: +44 (0)1865 310834. Venue location details will be sent with confirmation of booking. Feedback from previous UKSG E-Resources for Further Education events:•    ”Excellent day.  Useful accessible information.  Thank you.”•    ”Lots of opportunities to network and catch up with other institutions.”•    ”The speakers were uniformly excellent\, the vendors informative and interesting.”  •    “I liked the whole atmosphere of the day\, particularly the mix of practitioners and suppliers and the friendliness of all concerned to help on the day and in the future.”Cancellations Whilst this event is free to FE delegates we still need to know numbers for capacity/catering purposes so please advise us by Monday 21 November 2016 if you need to cancel your attendance. NB:  UKSG reserves the right to alter or vary the programme due to events or circumstances beyond its reasonable control without being obliged to refund monies.    
URL:https://www.uksg.org/events/uksg-e-resources-for-further-education-london-4/
CATEGORIES:Conference
ATTACH;FMTTYPE=:
END:VEVENT
END:VCALENDAR