BEGIN:VCALENDAR
VERSION:2.0
PRODID:-//UKSG - ECPv6.15.17.1//NONSGML v1.0//EN
CALSCALE:GREGORIAN
METHOD:PUBLISH
X-ORIGINAL-URL:https://www.uksg.org
X-WR-CALDESC:Events for UKSG
REFRESH-INTERVAL;VALUE=DURATION:PT1H
X-Robots-Tag:noindex
X-PUBLISHED-TTL:PT1H
BEGIN:VTIMEZONE
TZID:Europe/London
BEGIN:DAYLIGHT
TZOFFSETFROM:+0000
TZOFFSETTO:+0100
TZNAME:BST
DTSTART:20150329T010000
END:DAYLIGHT
BEGIN:STANDARD
TZOFFSETFROM:+0100
TZOFFSETTO:+0000
TZNAME:GMT
DTSTART:20151025T010000
END:STANDARD
BEGIN:DAYLIGHT
TZOFFSETFROM:+0000
TZOFFSETTO:+0100
TZNAME:BST
DTSTART:20160327T010000
END:DAYLIGHT
BEGIN:STANDARD
TZOFFSETFROM:+0100
TZOFFSETTO:+0000
TZNAME:GMT
DTSTART:20161030T010000
END:STANDARD
BEGIN:DAYLIGHT
TZOFFSETFROM:+0000
TZOFFSETTO:+0100
TZNAME:BST
DTSTART:20170326T010000
END:DAYLIGHT
BEGIN:STANDARD
TZOFFSETFROM:+0100
TZOFFSETTO:+0000
TZNAME:GMT
DTSTART:20171029T010000
END:STANDARD
END:VTIMEZONE
BEGIN:VEVENT
DTSTART;TZID=Europe/London:20160616T090000
DTEND;TZID=Europe/London:20160616T090000
DTSTAMP:20260420T234203
CREATED:20241008T133508Z
LAST-MODIFIED:20241008T193640Z
UID:15939-1466067600-1466067600@www.uksg.org
SUMMARY:UKSG Introduction to E-Resources Today: Manchester
DESCRIPTION:Save the date! Further details will follow in due course.
URL:https://www.uksg.org/events/uksg-introduction-to-e-resources-today-manchester/
CATEGORIES:Conference
ATTACH;FMTTYPE=:
END:VEVENT
BEGIN:VEVENT
DTSTART;TZID=Europe/London:20160616T130000
DTEND;TZID=Europe/London:20160616T130000
DTSTAMP:20260420T234203
CREATED:20241008T115817Z
LAST-MODIFIED:20241008T193641Z
UID:15362-1466082000-1466082000@www.uksg.org
SUMMARY:Free UKSG webinar - Making Connections - Creating Linked Open Library Data
DESCRIPTION:Join Neil Wilson\, Head\, Collection Metadata\, The British Library for a webinar on Making Connections – Creating Linked Open Library Data. Information and registration – please click here.
URL:https://www.uksg.org/events/free-uksg-webinar-making-connections-creating-linked-open-library-data/
CATEGORIES:Conference
ATTACH;FMTTYPE=:
END:VEVENT
BEGIN:VEVENT
DTSTART;TZID=Europe/London:20160622T110000
DTEND;TZID=Europe/London:20160622T110000
DTSTAMP:20260420T234203
CREATED:20241008T133325Z
LAST-MODIFIED:20241008T193643Z
UID:15907-1466593200-1466593200@www.uksg.org
SUMMARY:UKSG E-Resources Technical Update: Belfast
DESCRIPTION:Course summaryMany of us working directly with e-resources in libraries would like to feel more confident in our understanding of the related technology.  Managing e-resources within the business and technology constraints has become the mainstay of information provision.  This course provides attendees with a balanced overview of the technical environment which is crucial if we are to do our jobs effectively. The UKSG E-Resources Technical Update course will give you a good understanding of the underlying technicalities involved in e-resource set-up and delivery\, including e-journals (subscription-based or OA)\, online databases\, datasets\, and e-books\, and will help you feel more confident in your day-to-day work. Why you should attendERTU has become a standard part of the training programme for many e-resources librarians in the UK and beyond and is considered invaluable for anyone working with journals and other e-resources. Course level and previous knowledge requiredIf you are an early-year professional\, it is recommended that you should first attend the UKSG Introduction to Journals and E-Resources Today\, a one-day seminar run in a variety of locations which covers all aspects of the journals and e-resources industry.  Otherwise no previous knowledge is required. Learning objectives•    Learn how to overcome common problems in implementing e-resources•    Have the tools to help you decide the best way of setting up access to e-resources in your institution/organisation•    Be confident that you understand the technical landscape when dealing withe-resource providers. Fee UKSG members:  £200.00 + £40.00 VAT [20%] (total £240.00) Non-members:   £250.00 + £50.00 VAT [20%] (total £300.00) The fee includes refreshments and lunch. VenueRiddel Hall (Lecture Room 2)Queen’s University Belfast185 Stranmillis RoadBelfastBT9 5EE Tel.: 02890 975664 Course presentersThe course is presented by Simon Inger and Tracy Gardner who between them have over 40 years’ experience in scholarly publishing. Feedback from ERTU courses held in 2015“Excellent training and update\, highly recommended\, filled with all the essentials needed.” “The presenters were the best I’ve encountered anywhere.  It was inspirational.  The sessions covered a huge area and it was all clear\, extremely interesting and a lot of fun.” “The topics gave me a good understanding of technical terms used.” “The sessions were jam packed with valuable tips and inside information.” Course contentFor times please refer to the schedule for the day.  The course is continually updated\, but core content will include: Types of E-Resources•    Identifying the major players involved in e-resource provision•    The differences between resource discovery\, publisher websites\, aggregators\, search engines and library web pages Resource Discovery•    Where do users choose to begin their research?•    Advances in user navigation•    Semantic web and text mining Managing Reader Navigation•    Linking through URL and OpenURL\, the development and importance of Link Servers•    The role of library web pages\, A-Z lists\, A&Is and Resource Discovery Services Managing Authentication•    User authentication methodologies•    IP address ranges\, proxies and firewalls•    Federated access and Shibboleth•    OpenID developments. How to bookBooking for this course has now closed.  For further information please contact Karen Sadler by email or phone +44 (0)1865 310834. Venue location details will be sent with confirmation of booking. CancellationsBy Tuesday 14 June 2016 – full refundFrom Wednesday 15 June 2016 – no refund NB:  UKSG reserves the right to alter or vary the programme due to events or circumstances beyond its reasonable control without being obliged to refund monies.
URL:https://www.uksg.org/events/uksg-e-resources-technical-update-belfast/
CATEGORIES:Conference
ATTACH;FMTTYPE=:
END:VEVENT
END:VCALENDAR