BEGIN:VCALENDAR
VERSION:2.0
PRODID:-//UKSG - ECPv6.15.17.1//NONSGML v1.0//EN
CALSCALE:GREGORIAN
METHOD:PUBLISH
X-WR-CALNAME:UKSG
X-ORIGINAL-URL:https://www.uksg.org
X-WR-CALDESC:Events for UKSG
REFRESH-INTERVAL;VALUE=DURATION:PT1H
X-Robots-Tag:noindex
X-PUBLISHED-TTL:PT1H
BEGIN:VTIMEZONE
TZID:Europe/London
BEGIN:DAYLIGHT
TZOFFSETFROM:+0000
TZOFFSETTO:+0100
TZNAME:BST
DTSTART:20150329T010000
END:DAYLIGHT
BEGIN:STANDARD
TZOFFSETFROM:+0100
TZOFFSETTO:+0000
TZNAME:GMT
DTSTART:20151025T010000
END:STANDARD
BEGIN:DAYLIGHT
TZOFFSETFROM:+0000
TZOFFSETTO:+0100
TZNAME:BST
DTSTART:20160327T010000
END:DAYLIGHT
BEGIN:STANDARD
TZOFFSETFROM:+0100
TZOFFSETTO:+0000
TZNAME:GMT
DTSTART:20161030T010000
END:STANDARD
BEGIN:DAYLIGHT
TZOFFSETFROM:+0000
TZOFFSETTO:+0100
TZNAME:BST
DTSTART:20170326T010000
END:DAYLIGHT
BEGIN:STANDARD
TZOFFSETFROM:+0100
TZOFFSETTO:+0000
TZNAME:GMT
DTSTART:20171029T010000
END:STANDARD
END:VTIMEZONE
BEGIN:VEVENT
DTSTART;TZID=Europe/London:20160223T140000
DTEND;TZID=Europe/London:20160223T140000
DTSTAMP:20260421T055342
CREATED:20241008T115734Z
LAST-MODIFIED:20241008T193541Z
UID:15341-1456236000-1456236000@www.uksg.org
SUMMARY:Free UKSG webinar - Developing an alumni library service
DESCRIPTION:Join us in February for a free webinar on Developing an alumni library service. With Rachel Daniels and Emma Turner\, Cranfield University More information and registration.
URL:https://www.uksg.org/events/free-uksg-webinar-developing-an-alumni-library-service/
CATEGORIES:Conference
ATTACH;FMTTYPE=:
END:VEVENT
END:VCALENDAR