BEGIN:VCALENDAR
VERSION:2.0
PRODID:-//UKSG - ECPv6.15.17.1//NONSGML v1.0//EN
CALSCALE:GREGORIAN
METHOD:PUBLISH
X-ORIGINAL-URL:https://www.uksg.org
X-WR-CALDESC:Events for UKSG
REFRESH-INTERVAL;VALUE=DURATION:PT1H
X-Robots-Tag:noindex
X-PUBLISHED-TTL:PT1H
BEGIN:VTIMEZONE
TZID:Europe/London
BEGIN:DAYLIGHT
TZOFFSETFROM:+0000
TZOFFSETTO:+0100
TZNAME:BST
DTSTART:20140330T010000
END:DAYLIGHT
BEGIN:STANDARD
TZOFFSETFROM:+0100
TZOFFSETTO:+0000
TZNAME:GMT
DTSTART:20141026T010000
END:STANDARD
BEGIN:DAYLIGHT
TZOFFSETFROM:+0000
TZOFFSETTO:+0100
TZNAME:BST
DTSTART:20150329T010000
END:DAYLIGHT
BEGIN:STANDARD
TZOFFSETFROM:+0100
TZOFFSETTO:+0000
TZNAME:GMT
DTSTART:20151025T010000
END:STANDARD
BEGIN:DAYLIGHT
TZOFFSETFROM:+0000
TZOFFSETTO:+0100
TZNAME:BST
DTSTART:20160327T010000
END:DAYLIGHT
BEGIN:STANDARD
TZOFFSETFROM:+0100
TZOFFSETTO:+0000
TZNAME:GMT
DTSTART:20161030T010000
END:STANDARD
END:VTIMEZONE
BEGIN:VEVENT
DTSTART;TZID=Europe/London:20151201T140000
DTEND;TZID=Europe/London:20151201T140000
DTSTAMP:20260421T085100
CREATED:20241008T115736Z
LAST-MODIFIED:20241008T194159Z
UID:15349-1448978400-1448978400@www.uksg.org
SUMMARY:Free UKSG webinar - Focus on the South: access to\, production and use of research information in low and middle income countries
DESCRIPTION:As you may be aware\, UKSG does not usually offer a webinar in December. However\, we are pleased to offer this ‘special’ designed to highlight research and publishing activities in low and middle income countries and also reach out to community members with an interest in those countries. The webinar will focus on Southern journals and case studies will be used to address issues around access to\, production and use of research information in low and middle income countries. More information and registration.
URL:https://www.uksg.org/events/free-uksg-webinar-focus-on-the-south-access-to-production-and-use-of-research-information-in-low-and-middle-income-countries/
CATEGORIES:Conference
ATTACH;FMTTYPE=:
END:VEVENT
BEGIN:VEVENT
DTSTART;TZID=Europe/London:20151202T090000
DTEND;TZID=Europe/London:20151202T090000
DTSTAMP:20260421T085100
CREATED:20241008T133308Z
LAST-MODIFIED:20241008T194159Z
UID:15898-1449046800-1449046800@www.uksg.org
SUMMARY:UKSG E-Resources for Further Education: Birmingham
DESCRIPTION:Getting your message across:making the most of mobile technologies and social media in FE UKSG presents the sixth in their popular series of events focusing specifically on managing e-resources and new technologies in the Further Education sector. Many thanks to our event supporters:      EBSCO   ●   Eduserv – Chest Agreements   ●   JCS Online Resources   ●   SAGE This seminar will examine how far mobile technologies and social media have enabled us to engage with our users in a more direct way.  From live chat to Twitter\, we will be hearing about a wide range of innovations that are happening within the sector. #UKSGfe The event is FREE to FE institution delegates and includes refreshments and lunch\, as well as a PRIZE DRAW for a fully expensed place at the UKSG 2016 Annual Conference in Bournemouth!During the day there will be opportunities to hear from practitioners within FE about how they have introduced new ways of delivering high impact services\, facilitating discussions about the success of these innovations.  The day will provide you with ideas on how you can also innovate at your own institution.  Alongside your colleagues from other institutions\, we will be hearing from some key vendors about the new resources and services that they are introducing.  There will also be a small exhibition which will give delegates the opportunity to meet with vendors who specialise in providing e-resources to the Further Education sector\, as well as being a platform for discussion\, problem solving and networking.Feedback from previous UKSG E-Resources for Further Education events:•    ”Excellent day.  Useful accessible information.  Thank you.”•    ”Lots of opportunities to network and catch up with other institutions.”•    ”The speakers were uniformly excellent\, the vendors informative and interesting.”  •    “I liked the whole atmosphere of the day\, particularly the mix of practitioners and suppliers and the friendliness of all concerned to help on the day and in the future.” Venue The Library of Birmingham (Meeting Rooms 101 and 104)Centenary SquareBroad StreetBirminghamB1 2ND Tel.: 0121 303 6700 (Reception) Programme 10.00   Registration and coffee    10.20   Welcome and introduction by the Chair and UKSG representativeVicki McGarvey\, Learning and Information Services Manager\, Staffordshire University10.30   Mobile Moodle  https://moodle.croydon.ac.uk/elearningSonia Staneland\, E-Learning Officer\, Croydon College11.00   Vendor presentations:               EBSCO               JCS Online Resources11.30   Break and exhibition viewing11.50   Box of Broadcasts: accessing TV and radio on your phone\, tablet and desktopAlex Morris\, Communications and Marketing Officer\, BUFVC12.20   Vendor presentations:               Eduserv – Chest Agreements                 SAGE12.50   Lunch and exhibition viewing14.00   Reading list software – the answer to “Why don’t you have this book in stock?”Eileen Norris\, Learning Resources Manager\, Blackpool and the Fylde College14.30   Jisc support for mobile learningCarl Fry\, Account Manager\, Jisc15.00   Break\, exhibition viewing and UKSG 2016 Prize Draw15.20   Discussion groups (on the use of social media)15.50   Feedback and wrap-up16.00   Close of seminar followed by an opportunity to tour the LibraryHow to book This event is now fully booked.  For further information please contact Karen Sadler at UKSG by e-mail or by phone: +44 (0)1865 310834.Venue location details will be sent with confirmation of booking. Cancellations Whilst this event is free we still need to know numbers for capacity/catering purposes so please advise us by Tuesday 24 November 2015 if you need to cancel your attendance.NB:  UKSG reserves the right to alter or vary the programme due to events or circumstances beyond its reasonable control.   
URL:https://www.uksg.org/events/uksg-e-resources-for-further-education-birmingham/
CATEGORIES:Conference
ATTACH;FMTTYPE=:
END:VEVENT
END:VCALENDAR