BEGIN:VCALENDAR
VERSION:2.0
PRODID:-//UKSG - ECPv6.15.20//NONSGML v1.0//EN
CALSCALE:GREGORIAN
METHOD:PUBLISH
X-WR-CALNAME:UKSG
X-ORIGINAL-URL:https://www.uksg.org
X-WR-CALDESC:Events for UKSG
REFRESH-INTERVAL;VALUE=DURATION:PT1H
X-Robots-Tag:noindex
X-PUBLISHED-TTL:PT1H
BEGIN:VTIMEZONE
TZID:Europe/London
BEGIN:DAYLIGHT
TZOFFSETFROM:+0000
TZOFFSETTO:+0100
TZNAME:BST
DTSTART:20140330T010000
END:DAYLIGHT
BEGIN:STANDARD
TZOFFSETFROM:+0100
TZOFFSETTO:+0000
TZNAME:GMT
DTSTART:20141026T010000
END:STANDARD
BEGIN:DAYLIGHT
TZOFFSETFROM:+0000
TZOFFSETTO:+0100
TZNAME:BST
DTSTART:20150329T010000
END:DAYLIGHT
BEGIN:STANDARD
TZOFFSETFROM:+0100
TZOFFSETTO:+0000
TZNAME:GMT
DTSTART:20151025T010000
END:STANDARD
BEGIN:DAYLIGHT
TZOFFSETFROM:+0000
TZOFFSETTO:+0100
TZNAME:BST
DTSTART:20160327T010000
END:DAYLIGHT
BEGIN:STANDARD
TZOFFSETFROM:+0100
TZOFFSETTO:+0000
TZNAME:GMT
DTSTART:20161030T010000
END:STANDARD
END:VTIMEZONE
BEGIN:VEVENT
DTSTART;TZID=Europe/London:20151006T080000
DTEND;TZID=Europe/London:20151006T080000
DTSTAMP:20260423T105936
CREATED:20241008T133512Z
LAST-MODIFIED:20241008T194114Z
UID:15947-1444118400-1444118400@www.uksg.org
SUMMARY:UKSG Introduction to Journals and E-Resources Today: London
DESCRIPTION:Course summary This one-day seminar aims to present a practical introductory overview of all aspects of journals and e-resources management including e-books. The emphasis is on developing a sound basic understanding of the details of journals and e-resources handling in order to promote efficient and informed working practices.  A wide range of day-to-day issues will be covered\, with time devoted to recognising and resolving the problems that can arise at the boundaries between publishers\, intermediaries and libraries\, and addressing business models such as open access.  In addition\, the seminar will provide a forum for a group discussion on the current issues and opportunities offered by e-books. Delegates will be able to air and exchange views in the discussion session after each presentation. Why you should attend Designed particularly for staff who are new to working with journals and e-resources\, whether from a publisher\, an intermediary or a library\, this seminar may also be of interest to those looking to consolidate and update their journals and e-resources knowledge. Course level and previous knowledge required Introductory and non-intensive\, entry-level training for the beginner\, novice or returner. Learning objectives •    To understand the key elements involved in journals and e-resources management\, including how they are purchased\, promoted and managed•    To understand the key processes within commercial journals\, e-books and e-resources publishing\, including editorial and marketing\, pricing and licensing•    To understand the role of intermediaries and to be aware of the growing range of electronic access services offered•    To gain a broad awareness of the current issues involved in the acquisition and management of e-books. Fee UKSG members:   £165.00 + £33.00 VAT [20%] (total £198.00)Non-members:   £215.00 + £43.00 VAT [20%] (total £258.00) The fee includes refreshments and lunch. Venue The Institute of Materials\, Minerals and Mining (Bessemer Room)297 Euston RoadLondonNW1 3AQ Tel.: 020 7451 7300 (Reception) Programme 10.00   Registration and coffee    10.20   Welcome and introduction by the Chair and UKSG representativeFiona Ainsworth\, Collections Manager – Library\, Art & Archives\, Royal Botanic Gardens\, Kew 10.30   Managing content in the electronic world  Sarah Lowe\, E-Resources and Subscriptions Librarian\, University of BrightonThe importance of journals (print and electronic)\, e-resources and e-books\, and how they are purchased\, promoted and managed    11.15   Discussion 11.30   Break 11.45   The business of e-resource publishing  Jane Wright\, Journals Sales Manager\, Taylor & Francis GroupThe key processes within commercial e-resources publishing\, including launch\, economics\, editorial and marketing\, pricing models\, licensing and delivering electronically 12.30   Discussion 12.45   Lunch 13.30   E-books: a round table led by the ChairA forum in which to explore e-books – topics\, problems\, issues and opportunities for the community 14.30   Break 14.45   Intermediaries and their services  Caroline Mackay\, Licensing Manager\, Jisc CollectionsThe development of intermediaries\, the role of the traditional subscription agent\, and a review of the new players and the growing range of electronic access services offered 15.30   Discussion 15.45   Close of seminar Feedback from the June 2015 InJERT held in Birmingham “As a general overview good\, especially for those new to the field.” “It was really helpful to meet and speak to others from different institutions.” “The purpose of the day was to provide an introduction and all the speakers did that brilliantly and left me wanting to learn more.” “It was a really good mix of library staff from different sectors\, publishers and library technology companies.  This was great as it made the discussions really interesting as they covered topics from different perspectives.  The atmosphere was very friendly and relaxed\, and I didn’t feel too intimidated to contribute.” How to book Booking for this event has now closed.  For further information please contact Karen Sadler at UKSG by e-mail or by phone: +44 (0)1865 310834. Venue location details will be sent with confirmation of booking. Cancellations By Tuesday 29 September 2015 – full refundFrom Wednesday 30 September 2015 – no refund NB:  UKSG reserves the right to alter or vary the programme due to events or circumstances beyond its reasonable control without being obliged to refund monies.
URL:https://www.uksg.org/events/uksg-introduction-to-journals-and-e-resources-today-london-4/
CATEGORIES:Conference
ATTACH;FMTTYPE=:
END:VEVENT
BEGIN:VEVENT
DTSTART;TZID=Europe/London:20151027T140000
DTEND;TZID=Europe/London:20151027T140000
DTSTAMP:20260423T105936
CREATED:20241008T115624Z
LAST-MODIFIED:20241008T194115Z
UID:15318-1445954400-1445954400@www.uksg.org
SUMMARY:Free UKSG webinar - A new perspective on library resource management systems
DESCRIPTION:  You are invited to join Ken Chad\, Ken Chad Consulting Ltd. for a free UKSG webinar: “A new perspective on library resource management systems”   Ken Chad analyses the current landscape and looks at the strategic issues around the changing nature of library collections\, shared services\, workflows\, analytics and the cloud. He predicts that LSPs will move to encompass additional resource silos. Furthermore cloud-based library platforms will unleash further opportunity for shared services.  ”The cloud is becoming the new normal” he suggests\, quoting Amazon’s cloud strategy chief Andrew Jassy.     More information and registration.
URL:https://www.uksg.org/events/free-uksg-webinar-a-new-perspective-on-library-resource-management-systems/
CATEGORIES:Conference
ATTACH;FMTTYPE=:
END:VEVENT
END:VCALENDAR