BEGIN:VCALENDAR
VERSION:2.0
PRODID:-//UKSG - ECPv6.15.20//NONSGML v1.0//EN
CALSCALE:GREGORIAN
METHOD:PUBLISH
X-WR-CALNAME:UKSG
X-ORIGINAL-URL:https://www.uksg.org
X-WR-CALDESC:Events for UKSG
REFRESH-INTERVAL;VALUE=DURATION:PT1H
X-Robots-Tag:noindex
X-PUBLISHED-TTL:PT1H
BEGIN:VTIMEZONE
TZID:Europe/London
BEGIN:DAYLIGHT
TZOFFSETFROM:+0000
TZOFFSETTO:+0100
TZNAME:BST
DTSTART:20130331T010000
END:DAYLIGHT
BEGIN:STANDARD
TZOFFSETFROM:+0100
TZOFFSETTO:+0000
TZNAME:GMT
DTSTART:20131027T010000
END:STANDARD
BEGIN:DAYLIGHT
TZOFFSETFROM:+0000
TZOFFSETTO:+0100
TZNAME:BST
DTSTART:20140330T010000
END:DAYLIGHT
BEGIN:STANDARD
TZOFFSETFROM:+0100
TZOFFSETTO:+0000
TZNAME:GMT
DTSTART:20141026T010000
END:STANDARD
BEGIN:DAYLIGHT
TZOFFSETFROM:+0000
TZOFFSETTO:+0100
TZNAME:BST
DTSTART:20150329T010000
END:DAYLIGHT
BEGIN:STANDARD
TZOFFSETFROM:+0100
TZOFFSETTO:+0000
TZNAME:GMT
DTSTART:20151025T010000
END:STANDARD
END:VTIMEZONE
BEGIN:VEVENT
DTSTART;TZID=Europe/London:20141203T100000
DTEND;TZID=Europe/London:20141203T100000
DTSTAMP:20260424T001614
CREATED:20241008T133322Z
LAST-MODIFIED:20241008T190826Z
UID:15902-1417600800-1417600800@www.uksg.org
SUMMARY:UKSG E-Resources for Further Education: London
DESCRIPTION:Getting your message across:making the most of mobile technologies and social media in FE   UKSG regrets it has been necessary to cancel this event.   UKSG presents the sixth in their popular series of events focusing specifically on managing e-resources and new technologies in the Further Education sector. Many thanks to our event sponsors confirmed to date: This seminar will examine how far mobile technologies and social media have enabled us to engage with our users in a more direct way.  From live chat to Twitter\, we will be hearing about a wide range of innovations that are happening within the sector.During the day there will be opportunities to hear from practitioners within FE about how they have introduced new ways of delivering high impact services and will facilitate discussions about the success of these innovations.  The day will provide you with ideas on how you can also innovate at your own institution.  Alongside your colleagues from other institutions\, we will be hearing from some key vendors about the new resources and services that they are introducing.  There will also be a small exhibition which will give delegates the opportunity to meet with vendors who specialise in providing e-resources to the Further Education sector\, as well as being a platform for discussion\, problem solving and networking. Feedback from previous UKSG E-Resources for Further Education events:•   “I liked the whole atmosphere of the day\, particularly the mix of practitioners and suppliers and the friendliness of all concerned to help on the day and in the future.”•    ”Lots of opportunities to network and catch up with other institutions.”•    ”The speakers were uniformly excellent\, the vendors informative and interesting.”  •    ”Excellent day.  Useful accessible information.  Thank you.” Fee  FE institution delegates:  £48.00 + £9.60 VAT [20%] (total £57.60) The fee includes refreshments and lunch.Venue The Institute of Materials\, Minerals and Mining (Council Room and Library)1 Carlton House TerraceLondonSW1Y 5DB                    Tel.:  020 7451 7300 (Reception) Programme 10.00   Registration and coffee    10.20   Welcome and introduction by the Chair and UKSG representativeAndrew Barker\, Head of Academic Liaison\, Special Collections and Archives\,University of Liverpool10.30   Supporting students at a distanceEmily Armstrong\, Libraries & eLearning Manager\, Hull College Group11.00   E-Learning on a mobile deviceAndrew Checkley\, E-Learning Manager\, Croydon College11.30   Break and exhibition viewing11.50   Vendor Presentation 112.05   Vendor Presentation 212.20   Vendor Presentation 312.35   To tweet or not to tweet (and other social media questions)Marie Hitchcock\, LRC Manager\, Guildford College13.05   Lunch and exhibition viewing 14.00   Jisc in your pocket: mobile resources for FE from JiscScott Gibbens\, Senior Service Manager\, Jisc Collections and MimasCatherine John\, Licensing Manager for FE\, Jisc Collections14.30   Vendor Presentation 414.45   Vendor Presentation 515.00   Vendor Presentation 615.15   Break and exhibition viewing15.35   Discussion groups (on the use of social media)16.00   Feedback and wrap-up16.15   Close of seminarHow to book UKSG regrets it has been necessary to cancel this event.  For further information please contact Karen Sadler by email or phone +44 (0)1865 310834. Venue location details will be sent with confirmation of booking. Cancellations By Tuesday 25 November 2014 – full refundFrom Wednesday 26 November 2014 – no refundNB:  UKSG reserves the right to alter or vary the programme due to events or circumstances beyond its reasonable control without being obliged to refund monies. 
URL:https://www.uksg.org/events/uksg-e-resources-for-further-education-london-3/
CATEGORIES:Conference
ATTACH;FMTTYPE=:
END:VEVENT
END:VCALENDAR