BEGIN:VCALENDAR
VERSION:2.0
PRODID:-//UKSG - ECPv6.15.20//NONSGML v1.0//EN
CALSCALE:GREGORIAN
METHOD:PUBLISH
X-ORIGINAL-URL:https://www.uksg.org
X-WR-CALDESC:Events for UKSG
REFRESH-INTERVAL;VALUE=DURATION:PT1H
X-Robots-Tag:noindex
X-PUBLISHED-TTL:PT1H
BEGIN:VTIMEZONE
TZID:Europe/London
BEGIN:DAYLIGHT
TZOFFSETFROM:+0000
TZOFFSETTO:+0100
TZNAME:BST
DTSTART:20130331T010000
END:DAYLIGHT
BEGIN:STANDARD
TZOFFSETFROM:+0100
TZOFFSETTO:+0000
TZNAME:GMT
DTSTART:20131027T010000
END:STANDARD
BEGIN:DAYLIGHT
TZOFFSETFROM:+0000
TZOFFSETTO:+0100
TZNAME:BST
DTSTART:20140330T010000
END:DAYLIGHT
BEGIN:STANDARD
TZOFFSETFROM:+0100
TZOFFSETTO:+0000
TZNAME:GMT
DTSTART:20141026T010000
END:STANDARD
BEGIN:DAYLIGHT
TZOFFSETFROM:+0000
TZOFFSETTO:+0100
TZNAME:BST
DTSTART:20150329T010000
END:DAYLIGHT
BEGIN:STANDARD
TZOFFSETFROM:+0100
TZOFFSETTO:+0000
TZNAME:GMT
DTSTART:20151025T010000
END:STANDARD
END:VTIMEZONE
BEGIN:VEVENT
DTSTART;TZID=Europe/London:20141105T100000
DTEND;TZID=Europe/London:20141105T100000
DTSTAMP:20260424T011658
CREATED:20241008T133356Z
LAST-MODIFIED:20241008T190756Z
UID:15918-1415181600-1415181600@www.uksg.org
SUMMARY:UKSG E-Resources Technical Update: London
DESCRIPTION:Course summaryMany of us working directly with e-resources in libraries would like to feel more confident in our understanding of the related technology.  Managing e-resources within the business and technology constraints has become the mainstay of information provision.  This course provides attendees with a balanced overview of the technical environment which is crucial if we are to do our jobs effectively. The UKSG E-Resources Technical Update course will give you a good understanding of the underlying technicalities involved in e-resource set-up and delivery\, including e-journals (subscription-based or OA)\, online databases\, datasets\, and e-books\, and will help you feel more confident in your day-to-day work. Why you should attendERTU has become a standard part of the training programme for many e-resources librarians in the UK and beyond and is considered invaluable for anyone working with journals and other e-resources. Course level and previous knowledge requiredIf you are an early-year professional\, it is recommended that you should first attend the UKSG Introduction to Journals and E-Resources Today\, a one-day seminar run in a variety of locations which covers all aspects of the journals and e-resources industry and features an introductory technical session.  Otherwise no previous knowledge is required. Learning objectives•    Learn how to overcome common problems in implementing e-resources•    Have the tools to help you decide the best way of setting up access to e-resources in your institution/organisation•    Be confident that you understand the technical landscape when dealing withe-resource providers. Fee UKSG members:  £200.00 + £40.00 VAT [20%] (total £240.00) Non-members:   £250.00 + £50.00 VAT [20%] (total £300.00) The fee includes refreshments and lunch. VenueThe Institute of Materials\, Minerals and Mining (Council Room)1 Carlton House TerraceLondonSW1Y 5DB Tel.: 020 7451 7300 (Reception) Course presentersThe course is presented by Simon Inger and Tracy Gardner from Renew Training who between them have over 40 years’ experience in scholarly publishing. Feedback from recent ERTU courses“Content intensive with informative presenters creating an atmosphere to include questioning and discussion.” “I attended this course last year when I was new to e-resources; this year I got so much more out of it as I was able to engage on a different level.  Really useful day.” “Excellent speakers and friendly atmosphere – very conducive to learning and discussion.”  Course contentPlease refer to the schedule for the day.  The course is continually updated\, but core content will include: Classifying E-Resources•    Understanding the types of e-resources available and how they all fit together\, including: publisher websites\, aggregators\, search engines\, library resource discovery services\, abstracting and indexing services\, and social media. Reader Behaviour•    Understanding reader choice in information discovery•    Popular apps for readers. Managing User Navigation•    Linking through URL and OpenURL\, the development and importance of Link Servers•    The role of library web pages in resource discovery. Managing Authentication•    User authentication methodologies\, including: IP address ranges\, proxies\, Athens and Shibboleth\, single sign-on (SSO)•    Defining and understanding authentication scenarios. How to bookThe closing date for this event has now passed.  For further information please contact Karen Sadler by email or phone +44 (0)1865 310834 Venue location details will be sent with confirmation of booking. CancellationsBy Tuesday 28 October 2014 – full refundFrom Wednesday 29 October 2014 – no refund NB:  UKSG reserves the right to alter or vary the programme due to events or circumstances beyond its reasonable control without being obliged to refund monies.
URL:https://www.uksg.org/events/uksg-e-resources-technical-update-london-8/
CATEGORIES:Conference
ATTACH;FMTTYPE=:
END:VEVENT
BEGIN:VEVENT
DTSTART;TZID=Europe/London:20141121T100000
DTEND;TZID=Europe/London:20141121T100000
DTSTAMP:20260424T011658
CREATED:20241008T133438Z
LAST-MODIFIED:20241008T170920Z
UID:15927-1416564000-1416564000@www.uksg.org
SUMMARY:UKSG Forum: London
DESCRIPTION:Information without frontiers – barriers and solutions \n\n\n\nVenue: Grand Connaught Rooms\, 61-65 Great Queen Street\, London WC2B 5DA \n\n\n\nWhat is the UKSG Forum? \n\n\n\nNow in its second year\, the UKSG Forum is a dynamic exhibition and networking event designed to bring together the scholarly information community.  \n\n\n\nIn response to excellent feedback from our inaugural event\, we have chosen a bigger venue for 2014 with more opportunity for: \n\n\n\n\nNetworking\n\n\n\nShort sessions\n\n\n\nExhibition viewing\n\n\n\nIndividual meetings\n\n\n\n\nThe programme of short sessions will cover hot topics encompassing the theme of ‘information without frontiers – barriers and solutions’. \n\n\n\nNew for 2014 – ‘open mic’ session (13.30 in the Edinburgh Room\, Area B) \n\n\n\n\nSign up on the day to give a lightning talk or short product review.\n\n\n\n\nWho can attend? \n\n\n\nThe UKSG Forum is free to anyone working for a UKSG member organisation (view the UKSG member list here); there is a charge of £65.00 + VAT for delegates from non-member organisations (or become a UKSG member here).  \n\n\n\nRefreshments and lunch are provided and you will have access to the exhibition where over 45 publishers\, intermediaries and technology vendors will be available.  The event will be rounded off with a drinks reception. \n\n\n\nHow do you book? \n\n\n\nThe closing date for booking this event has passed.  For further information\, please contact Karen by email or by phone – +44 (0)1865 310834 \n\n\n\nWhat’s on the programme? \n\n\n\nBalmoral Room – lightning talks on: \n\n\n\n10.00  Expanding Library Boundaries:•    Laura Horton and Jodie Bell\, Taylor & Francis\, on social media in the Library•    Mark Williams on Jisc’s mobile manifesto \n\n\n\n11.00  The Human Touch:•    Andrejs Alferovs\, Kortext\, on UEL’s landmark technology package for students•    Kate Smith\, Wiley\, on librarians’ self-perceptions \n\n\n\n12.00  The Future of Library Discovery (debate):•    Jan Molendijk\, Utrecht University Library\, on library discovery without a catalogue•    Tamar Sadeh\, Ex Libris\, on discovery systems in the academic environment \n\n\n\n14.00  Library Systems:•    Anna Grigson\, LSE\, on change management and library systems•    Paul Stainthorp\, University of Lincoln\, on what users *really* want from library systems \n\n\n\n15.00  Academic Content Beyond the Academy:•    Richard Osborn\, Health Education North Central and East London\, on the Jisc NHS pilot•    Julia Wallace\, Iglooe Consulting\, on business models for extending access to academic licensed content to SMEs•    Jonathan Griffin\, Publishers Licensing Society\, on academic articles accessible from local libraries \n\n\n\nEdinburgh Room\, Area A – lightning talks on: \n\n\n\n10.30  UKSG Research and Innovation•    James Philpotts\, Oxford University Press\, on a publisher’s experience of Transfer•    Magaly Bascones\, Jisc Collections\, on KBART Phase II recommended practice•    David Sommer\, Kudos / David Sommer Consulting\, on the COUNTER Usage Data Standard \n\n\n\n11.30  Publishing Innovation (1)•    François Barnaud\, OECD\, on Freemium access publishing•    Roger Tritton\, Jisc Collections\, and Andrew Barker\, University of Liverpool\, on HEI-published e-textbooks•    Adam Rusbridge\, EDINA\, on SafeNet \n\n\n\n13.30  Open Access Monographs•    Frances Pinter\, Knowledge Unlatched\, on the progress of Knowledge Unlatched•    Ros Pyne\, Palgrave Macmillan\, on sustainable business models for open access monographs•    Brian Hole\, Ubiquity Press\, on developing an open University Press \n\n\n\n14.30  KB+•    Anne Simmons\, Bodleian Libraries\, on using KB+ at the Bodleian Libraries •    Allison Carroll\, University of East Anglia\, on licence properties on KB+ at UEA•    Gabby Williams\, Bangor University\, on using KB+ at Bangor \n\n\n\n15.30  Publishing Innovation (2)•    Timon Oefelein\, Springer\, on discovering Springer content•    Liam Earney\, Jisc Collections\, on TERMS and Jisc’s library support services•    Becky Hartnup\, VitalSource\, and Jim Harris\, University of Northampton\, on adapting to the online learning environment \n\n\n\nEdinburgh Room\, Area B – lightning talks on: \n\n\n\n10.30  Altmetrics•    Will Russell\, Royal Society of Chemistry\, on publisher and researcher experiences of altmetrics•    James Wilsdon\, SPRU\, University of Sussex\, on how academics perceive altmetrics \n\n\n\n11.30  User Experience (1)•    Steve Giannoni\, EBSCO\, on improving the user experience with EBSCO•    Matt Borg\, ProQuest Workflow Solutions\, on improving the user experience at Sheffield Hallam \n\n\n\n14.30  Data Enrichment•    Roger Press\, Academic Rights Press\, on the use of data in humanities research to deliver new insights•    Alan Maloney\, SAGE Publications\, on using text mining to enrich social science content \n\n\n\n15.30  User Experience (2)•    Catherine McManamon\, Manchester Metropolitan University\, on the end user reaction to the Summon discovery service•    Sam Herbert\, 67 Bricks Ltd\, on semantic content enrichment \n\n\n\nExhibitors \n\n\n\nExhibition Guide \n\n\n\nThis is a great opportunity to raise your profile in a central London location.  Last year the event was sold out with the majority of attendees stating they would attend again.  A table-top exhibition stand costs £500 + VAT and a few are still available. \n\n\n\nPlease contact Alison Whitehorn for more information. \n\n\n\nMeeting rooms \n\n\n\nA limited number of private meeting rooms are available for hire: \n\n\n\n\n£250 + VAT for a half day (am or pm)\n\n\n\nBoardroom style seating 10 with plasma screen and refreshments\n\n\n\nPreferential rate for standard sponsors at £175 + VAT\n\n\n\n\nPlease contact Alison Whitehorn for more information. \n\n\n\n‘UKSG Events’ app\n\n\n\nWe are delighted to announce that the new ‘UKSG Events’ app is now available in the Apple App Store\, Google Play Store or online for the UKSG Forum 2014. \n\n\n\nThe free app has been designed to help delegates plan and optimise their attendance at the UKSG Forum 2014 and other UKSG events. The app includes information on:– sessions and speakers– delegates– sponsors and exhibitors– practicalities \n\n\n\nClick here for more information.  \n\n\n\nSocial media at the Forum\n\n\n\nIf you would like to Tweet in relation to the UKSG Forum 2014\, please use the hashtag #UKSGforum. We are also using the hashtag #UKSGforum on Instagram. All these tweets and photos will be included in the app’s ‘Event Compass’. \n\n\n\nWhat they said about November 2013 \n\n\n\n“This is going to become the UKSG Winterfest!” \n\n\n\n“A very worthwhile and well organised day.” \n\n\n\n“I think this was an excellent event\, just the right size and definitely fitting a need.  I think it was a positive comment on the selections of lightning talks that people wanted to stay in the room and there was still plenty of time and space for networking and meetings.” \n\n\n\n“We would be happy to attend in 2014\, assuming that this becomes an annual event – hope it does.” \n\n\n\n“Overall\, I found the forum very useful and an excellent opportunity to meet colleagues from across the sector. “ \n\n\n\n“I find the subject areas covered at UKSG events and the calibre of speakers to be better than many other library events.  Always well worth attending.”  \n\n\n\nNB:  UKSG reserves the right to alter or vary the programme due to events or circumstances beyond its reasonable control without being obliged to refund monies.
URL:https://www.uksg.org/events/forum2014/
CATEGORIES:Conference
ATTACH;FMTTYPE=:
END:VEVENT
BEGIN:VEVENT
DTSTART;TZID=Europe/London:20141127T130000
DTEND;TZID=Europe/London:20141127T130000
DTSTAMP:20260424T011658
CREATED:20241008T120232Z
LAST-MODIFIED:20241008T190801Z
UID:15408-1417093200-1417093200@www.uksg.org
SUMMARY:Free UKSG webinar: Redefining the Institutional Repository
DESCRIPTION:  Institutional Repositories have grown in importance over the last 10 years to offer a core University and Library service\, however\, their role is developing faster now than it has ever done. Join Chris Keene\, Technical Development Manager\, University of Sussex Library to find out more. Information and registration.
URL:https://www.uksg.org/events/free-uksg-webinar-redefining-the-institutional-repository/
CATEGORIES:Conference
ATTACH;FMTTYPE=:
END:VEVENT
END:VCALENDAR