BEGIN:VCALENDAR
VERSION:2.0
PRODID:-//UKSG - ECPv6.15.20//NONSGML v1.0//EN
CALSCALE:GREGORIAN
METHOD:PUBLISH
X-ORIGINAL-URL:https://www.uksg.org
X-WR-CALDESC:Events for UKSG
REFRESH-INTERVAL;VALUE=DURATION:PT1H
X-Robots-Tag:noindex
X-PUBLISHED-TTL:PT1H
BEGIN:VTIMEZONE
TZID:Europe/London
BEGIN:DAYLIGHT
TZOFFSETFROM:+0000
TZOFFSETTO:+0100
TZNAME:BST
DTSTART:20130331T010000
END:DAYLIGHT
BEGIN:STANDARD
TZOFFSETFROM:+0100
TZOFFSETTO:+0000
TZNAME:GMT
DTSTART:20131027T010000
END:STANDARD
BEGIN:DAYLIGHT
TZOFFSETFROM:+0000
TZOFFSETTO:+0100
TZNAME:BST
DTSTART:20140330T010000
END:DAYLIGHT
BEGIN:STANDARD
TZOFFSETFROM:+0100
TZOFFSETTO:+0000
TZNAME:GMT
DTSTART:20141026T010000
END:STANDARD
BEGIN:DAYLIGHT
TZOFFSETFROM:+0000
TZOFFSETTO:+0100
TZNAME:BST
DTSTART:20150329T010000
END:DAYLIGHT
BEGIN:STANDARD
TZOFFSETFROM:+0100
TZOFFSETTO:+0000
TZNAME:GMT
DTSTART:20151025T010000
END:STANDARD
END:VTIMEZONE
BEGIN:VEVENT
DTSTART;TZID=Europe/London:20141008T050000
DTEND;TZID=Europe/London:20141008T050000
DTSTAMP:20260424T022007
CREATED:20241008T133512Z
LAST-MODIFIED:20241008T190720Z
UID:15946-1412744400-1412744400@www.uksg.org
SUMMARY:UKSG Introduction to Journals and E-Resources Today: London
DESCRIPTION:Course summary This one-day seminar aims to present a practical introductory overview of all aspects of journals and e-resources management. The emphasis is on developing a sound basic understanding of the details of journals and e-resources handling in order to promote efficient and informed working practices.  A wide range of day-to-day issues will be covered\, with time devoted to recognising and resolving the problems that can arise at the boundaries between publishers\, intermediaries and libraries\, and addressing business models such as open access.  In addition\, the seminar will provide an overview of the technical aspects of managing e-resources. Delegates will be able to air and exchange views in the discussion session after each presentation. Why you should attend Designed particularly for staff who are new to working with journals and e-resources\, whether from a publisher\, an intermediary or a library\, this seminar may also be of interest to those looking to consolidate and update their journals and e-resources knowledge. Course level and previous knowledge required Introductory and non-intensive\, entry-level training for the beginner\, novice or returner. Learning objectives •    To understand the key elements involved in journals and e-resources management\, including how they are purchased\, promoted and managed•    To understand the key processes within commercial journal and e-resources publishing\, including editorial and marketing\, pricing and licensing•    To understand the roles of both the traditional subscription agent and new intermediaries\, and the growing range of electronic access services offered•    To gain a broad awareness of the technical aspects of managing e-resources. Fee UKSG members:   £160.00 + £32.00 VAT [20%] (total £192.00)Non-members:   £210.00 + £42.00 VAT [20%] (total £252.00) The fee includes refreshments and lunch. Venue The Institute of Materials\, Minerals and Mining (Library)1 Carlton House TerraceLondonSW1Y 5DB Tel.: 020 7451 7300 (Reception) Programme 10.00   Registration and coffee    10.20   Welcome and introduction by the Chair and UKSG representativeFiona Ainsworth\, Collections Manager – Library\, Art & Archives\, Royal Botanic Gardens\, Kew 10.30   Managing content in the electronic world  Sarah Lowe\, E-Resources and Subscriptions Librarian\, University of BrightonThe importance of journals (print and electronic)\, e-resources and e-books\, and how they are purchased\, promoted and managed    11.15   Discussion 11.30   Break 11.45   The business of e-resource publishing  James Pawley\, Renewals and Sales Strategy Manager\, SAGE PublicationsThe key processes within commercial e-resource publishing\, including launch\, economics\, editorial and marketing\, pricing models\, licensing and delivering electronically 12.30   Discussion 12.45   Lunch 13.30   Getting technical – an overview  Tom Bishop\, Head of Library and Surgical Information Services\, The Royal College of Surgeons of EnglandAn overview of linking\, including DOI/CrossRef\, OpenURL and KBART\, authentication and authorisation\, other relevant and emerging technologies\, discovery services\, and the technical aspects of usage statistics (COUNTER\, SUSHI and JUSP) 14.15   Discussion     14 .30   Break 14.45   Intermediaries and their services  Craig Moran\, Operations Manager\, Jisc CollectionsThe development of intermediaries\, the role of the traditional subscription agent\, and a review of the new players and the growing range of electronic access services offered 15.30   Discussion 15.45   Close of seminar Background course material The Work of the Serials Librarian The Work of the Journal Publisher The Work of the Subscription Agent Further reading – articles from Serials/Insights How to book The closing date for bookings has now passed.  For further information please contact Karen Sadler by email or phone +44 (0)1865 310834 Venue location details will be sent with confirmation of booking. Cancellations By Wednesday 1 October 2014 – full refundFrom Thursday 2 October 2014 – no refund NB:  UKSG reserves the right to alter or vary the programme due to events or circumstances beyond its reasonable control without being obliged to refund monies.
URL:https://www.uksg.org/events/uksg-introduction-to-journals-and-e-resources-today-london-3/
CATEGORIES:Conference
ATTACH;FMTTYPE=:
END:VEVENT
BEGIN:VEVENT
DTSTART;TZID=Europe/London:20141021T090000
DTEND;TZID=Europe/London:20141021T090000
DTSTAMP:20260424T022007
CREATED:20241008T133411Z
LAST-MODIFIED:20241008T190721Z
UID:15924-1413882000-1413882000@www.uksg.org
SUMMARY:UKSG Financial Planning for Libraries: London
DESCRIPTION:Course summary This one-day seminar is aimed at librarians who want to gain an understanding of the various activities involved in financial planning for resources within an academic library.UKSG is able to call on the extensive experience of its members in sourcing expert speakers from various institutions within the academic sector to present a practical overview of all aspects of the financial management of information resources.Why you should attend  Various financial management practices of a number of academic institutions will be discussed\, including the relationship with the institutions finance department.  Central to the whole event are presentations giving the differing viewpoints of what is involved – from accounting basics\, tendering and procurement regulations\, local and national reporting\, forecasting\, and KPIs.  Two case studies are included and time will be set aside for follow-on questions. The day will end with a practical workshop.Course level and previous knowledge required This seminar is designed particularly for those who have moved into a position where financial planning is incorporated or for those who need an update.  It would also be beneficial for librarians working towards Chartership.Learning objectives Delegates should gain an overview of:•    library financial planning cycles\, including budgeting\, resource allocation and future planning•    accounting basics – understanding the different priorities between finance departments and the library and the terminology needed in order to communicate effectively•    how to approach the tendering process\, different types of tenders\, the regulations involved and how to manage the process•    budget reports and forecasting and their use in the planning process and for reporting back nationally•    Key Performance Indicators\, monitoring expenditure and showing value for money. Fee UKSG members:   £180.00 + £36.00 VAT [20%] (total £216.00)Non-members:   £230.00 + £46.00 VAT [20%] (total £276.00) The fee includes refreshments and lunch. Venue The Institute of Materials\, Minerals and Mining (Library)1 Carlton House TerraceLondonSW1Y 5DB Tel.: 020 7451 7300 (Reception) Programme 10.00  Registration and coffee10.30  Welcome and introduction by the Chair/UKSG representativeAnne Knight\, Head of Content\, Digital and Client Services\, Information Services\, Cranfield University 10.35  Financial Planning and Forecasting: view from the top  The context and strategic overview: budgets\, resource allocation\, annual cycle and future planningJill Taylor-Roe\, Deputy Librarian and Head of Planning and Resources\,Newcastle University Library 11.00  Accounting Basics: speaking the same language as your finance departmentHow Finance Departments work: terms you need to know to talk the talkSally Faith\, Head of Planning and Administration\, University of Sussex Library11.25  Break11.40  Tendering and Procurement RegulationsSusan Wright\, Head of Southern Universities Purchasing Consortium (SUPC)\,University of Reading12.05  Case Study 1: resource budget management at the LSE  Lisa Cardy\, Access and Procurement Manager (Job Share)\,The London School of Economics and Political Science Library12.25  Case Study 2: resource budget management at the University of LeicesterJoanne Dunham\, Head of Collections and Information Systems\,University of Leicester Library12.45  Questions    12.55  Lunch13.40  Budget Reports and Forecasts  How to go about it and what should be includedAnne Knight\, Head of Content\, Digital and Client Services andSelena Killick\, Library Quality Officer\,Information Services\, Cranfield University14.00  Reporting Back Nationally  Collecting financial data for the annual SCONUL returnSelena Killick\, Library Quality Officer\, Information Services\, Cranfield University14.10  KPIs and Value for Money  Aligning the library data with institutional prioritiesJacqui Dowd\, Management Information Officer\, University of Glasgow Library14.35  Questions14.45  Break15.00  Managing Budgets (practical workshop)Sally Faith\, Head of Planning and Administration\, University of Sussex Library15.50  Summary and final questions16.00  Close of seminar How to book The closing date for booking this event has now passed.  For further information please contact Karen Sadler by email or phone +44 (0)1865 310834 Venue location details will be sent with confirmation of booking. Cancellations By Tuesday 14 October 2014 – full refundFrom Wednesday 15 October 2014 – no refund NB:  UKSG reserves the right to alter or vary the programme due to events or circumstances beyond its reasonable control without being obliged to refund monies.  
URL:https://www.uksg.org/events/uksg-financial-planning-for-libraries-london/
CATEGORIES:Conference
ATTACH;FMTTYPE=:
END:VEVENT
BEGIN:VEVENT
DTSTART;TZID=Europe/London:20141029T140000
DTEND;TZID=Europe/London:20141029T140000
DTSTAMP:20260424T022007
CREATED:20241008T120232Z
LAST-MODIFIED:20241008T190722Z
UID:15410-1414591200-1414591200@www.uksg.org
SUMMARY:Free UKSG webinar: The University Library as Publisher
DESCRIPTION:  Join colleagues from the Universities of St Andrews and Edinburgh to understand how open access publishing initiatives could be delivered for academic staff and students in your institution.   More information and registration.
URL:https://www.uksg.org/events/free-uksg-webinar-the-university-library-as-publisher/
CATEGORIES:Conference
ATTACH;FMTTYPE=:
END:VEVENT
END:VCALENDAR