BEGIN:VCALENDAR
VERSION:2.0
PRODID:-//UKSG - ECPv6.15.20//NONSGML v1.0//EN
CALSCALE:GREGORIAN
METHOD:PUBLISH
X-ORIGINAL-URL:https://www.uksg.org
X-WR-CALDESC:Events for UKSG
REFRESH-INTERVAL;VALUE=DURATION:PT1H
X-Robots-Tag:noindex
X-PUBLISHED-TTL:PT1H
BEGIN:VTIMEZONE
TZID:Europe/London
BEGIN:DAYLIGHT
TZOFFSETFROM:+0000
TZOFFSETTO:+0100
TZNAME:BST
DTSTART:20130331T010000
END:DAYLIGHT
BEGIN:STANDARD
TZOFFSETFROM:+0100
TZOFFSETTO:+0000
TZNAME:GMT
DTSTART:20131027T010000
END:STANDARD
BEGIN:DAYLIGHT
TZOFFSETFROM:+0000
TZOFFSETTO:+0100
TZNAME:BST
DTSTART:20140330T010000
END:DAYLIGHT
BEGIN:STANDARD
TZOFFSETFROM:+0100
TZOFFSETTO:+0000
TZNAME:GMT
DTSTART:20141026T010000
END:STANDARD
BEGIN:DAYLIGHT
TZOFFSETFROM:+0000
TZOFFSETTO:+0100
TZNAME:BST
DTSTART:20150329T010000
END:DAYLIGHT
BEGIN:STANDARD
TZOFFSETFROM:+0100
TZOFFSETTO:+0000
TZNAME:GMT
DTSTART:20151025T010000
END:STANDARD
END:VTIMEZONE
BEGIN:VEVENT
DTSTART;TZID=Europe/London:20140924T120000
DTEND;TZID=Europe/London:20140924T120000
DTSTAMP:20260424T032755
CREATED:20241008T120127Z
LAST-MODIFIED:20241008T190719Z
UID:15404-1411560000-1411560000@www.uksg.org
SUMMARY:Free UKSG webinar: Future Casting – The Horizon Report and Beyond
DESCRIPTION:Join us for this free UKSG webinar to better understand how thinking about the future of Libraries can help you deliver services now and for an introduction to the NMC Horizon report for Libraries. Date: Wednesday 24 September 2014 Time: 1400 BST Duration: 45 minutes including Q&A (up to 60 minutes maximum if there is sufficient demand for an extended Q&A) Speaker: Dave Parkes Associate Director Information Services\, Teaching Excellence Fellow & National Teaching Fellow\, Staffordshire University More information and registration.
URL:https://www.uksg.org/events/free-uksg-webinar-future-casting-the-horizon-report-and-beyond/
CATEGORIES:Conference
ATTACH;FMTTYPE=:
END:VEVENT
END:VCALENDAR