BEGIN:VCALENDAR
VERSION:2.0
PRODID:-//UKSG - ECPv6.15.20//NONSGML v1.0//EN
CALSCALE:GREGORIAN
METHOD:PUBLISH
X-WR-CALNAME:UKSG
X-ORIGINAL-URL:https://www.uksg.org
X-WR-CALDESC:Events for UKSG
REFRESH-INTERVAL;VALUE=DURATION:PT1H
X-Robots-Tag:noindex
X-PUBLISHED-TTL:PT1H
BEGIN:VTIMEZONE
TZID:Europe/London
BEGIN:DAYLIGHT
TZOFFSETFROM:+0000
TZOFFSETTO:+0100
TZNAME:BST
DTSTART:20130331T010000
END:DAYLIGHT
BEGIN:STANDARD
TZOFFSETFROM:+0100
TZOFFSETTO:+0000
TZNAME:GMT
DTSTART:20131027T010000
END:STANDARD
BEGIN:DAYLIGHT
TZOFFSETFROM:+0000
TZOFFSETTO:+0100
TZNAME:BST
DTSTART:20140330T010000
END:DAYLIGHT
BEGIN:STANDARD
TZOFFSETFROM:+0100
TZOFFSETTO:+0000
TZNAME:GMT
DTSTART:20141026T010000
END:STANDARD
BEGIN:DAYLIGHT
TZOFFSETFROM:+0000
TZOFFSETTO:+0100
TZNAME:BST
DTSTART:20150329T010000
END:DAYLIGHT
BEGIN:STANDARD
TZOFFSETFROM:+0100
TZOFFSETTO:+0000
TZNAME:GMT
DTSTART:20151025T010000
END:STANDARD
END:VTIMEZONE
BEGIN:VEVENT
DTSTART;TZID=Europe/London:20140603T140000
DTEND;TZID=Europe/London:20140603T140000
DTSTAMP:20260424T065023
CREATED:20241008T133511Z
LAST-MODIFIED:20241008T190602Z
UID:15943-1401804000-1401804000@www.uksg.org
SUMMARY:UKSG Introduction to Journals and E-Resources Today: Edinburgh
DESCRIPTION:Course summary This one-day seminar aims to present a practical introductory overview of all aspects of journals and e-resources management. The emphasis is on developing a sound basic understanding of the details of journals and e-resources handling in order to promote efficient and informed working practices.  A wide range of day-to-day issues will be covered\, with time devoted to recognising and resolving the problems that can arise at the boundaries between publishers\, intermediaries and libraries\, and addressing business models such as open access.  In addition\, the seminar will provide an overview of the technical aspects of managing e-resources. Delegates will be able to air and exchange views in the discussion session after each presentation. Why you should attend Designed particularly for staff who are new to working with journals and e-resources\, whether from a publisher\, an intermediary or a library\, this seminar may also be of interest to those looking to consolidate and update their journals and e-resources knowledge. Course level and previous knowledge required Introductory and non-intensive\, entry-level training for the beginner\, novice or returner. Learning objectives •    To understand the key elements involved in journals and e-resources management\, including how they are purchased\, promoted and managed•    To understand the key processes within commercial journal and e-resources publishing\, including editorial and marketing\, pricing and licensing•    To understand the roles of both the traditional subscription agent and new intermediaries\, and the growing range of electronic access services offered•    To gain a broad awareness of the technical aspects of managing e-resources. Fee UKSG members:   £160.00 + £32.00 VAT [20%] (total £192.00)Non-members:   £210.00 + £42.00 VAT [20%] (total £252.00) The fee includes refreshments and lunch. Venue Salisbury Green Hotel (Drawing Room/Red Room)18 Holyrood Park RoadNewingtonEdinburghEH16 5AY                    Tel.:  0131 651 2198 (24-hour Reception in Masson House)  Programme 10.00   Registration and coffee    10.20   Welcome and introduction by the Chair and UKSG representativeMichael Davis\, Senior Account Manager\, STMS\, Wiley 10.30   Managing content in the electronic worldRegina Ferguson\, Collections Manager\, University of SalfordThe importance of journals (print and electronic)\, e-resources and e-books\, and how they are purchased\, promoted and managed    11.15   Discussion11.30   Break11.45   The business of e-resource publishingMichael Davis\, Senior Account Manager\, STMS\, WileyThe key processes within commercial e-resource publishing\, including launch\, economics\, editorial and marketing\, pricing models\, licensing and delivering electronically12.30   Discussion12.45   Lunch13.30   Getting technical – an overview  Laurence Lockton\, Systems Librarian\, University of BathAn overview of linking\, including DOI/CrossRef\, OpenURL and KBART\, authentication and authorisation\, other relevant and emerging technologies\, discovery services\, and the technical aspects of usage statistics (COUNTER\, SUSHI and JUSP)14.15   Discussion    14 .30   Break14.45   Intermediaries and their services  Scott Gibbens\, Senior Service Manager (JHB & JJA)\, Jisc Collections and MimasThe development of intermediaries\, the role of the traditional subscription agent\, and a review of the new players and the growing range of electronic access services offered15.30   Discussion15.45   Close of seminar Background course material The Work of the Serials Librarian The Work of the Journal Publisher The Work of the Subscription Agent Further reading – articles from Serials/Insights How to book Booking for this event has now closed.  For further information please contact Karen Sadler by email or by phone +44(0)1865 310834 Venue location details will be sent with confirmation of booking. Cancellations By Tuesday 27 May 2014 – full refundFrom Wednesday 28 May 2014 – no refund NB:  UKSG reserves the right to alter or vary the programme due to events or circumstances beyond its reasonable control without being obliged to refund monies.
URL:https://www.uksg.org/events/uksg-introduction-to-journals-and-e-resources-today-edinburgh-2/
CATEGORIES:Conference
ATTACH;FMTTYPE=:
END:VEVENT
BEGIN:VEVENT
DTSTART;TZID=Europe/London:20140611T110000
DTEND;TZID=Europe/London:20140611T110000
DTSTAMP:20260424T065023
CREATED:20241008T133340Z
LAST-MODIFIED:20241008T190604Z
UID:15910-1402484400-1402484400@www.uksg.org
SUMMARY:UKSG E-Resources Technical Update: Edinburgh
DESCRIPTION:Course summaryMany of us working directly with e-resources in libraries would like to feel more confident in our understanding of the related technology.  Managing e-resources within the business and technology constraints has become the mainstay of information provision.  This course provides attendees with a balanced overview of the technical environment which is crucial if we are to do our jobs effectively. The UKSG E-Resources Technical Update course will give you a good understanding of the underlying technicalities involved in e-resource set-up and delivery\, including e-journals (subscription-based or OA)\, online databases\, datasets\, and e-books\, and will help you feel more confident in your day-to-day work. Why you should attendERTU has become a standard part of the training programme for many e-resources librarians in the UK and beyond and is considered invaluable for anyone working with journals and other e-resources. Course level and previous knowledge requiredIf you are an early-year professional\, it is recommended that you should first attend the UKSG Introduction to Journals and E-Resources Today\, a one-day seminar run in a variety of locations which covers all aspects of the journals and e-resources industry and features an introductory technical session.  Otherwise no previous knowledge is required. Learning objectives•    Learn how to overcome common problems in implementing e-resources•    Have the tools to help you decide the best way of setting up access to e-resources in your institution/organisation•    Be confident that you understand the technical landscape when dealing withe-resource providers. Fee UKSG members:  £200.00 + £40.00 VAT [20%] (total £240.00) Non-members:   £250.00 + £50.00 VAT [20%] (total £300.00) The fee includes refreshments and lunch. Venue Salisbury Green Hotel (Drawing Room/Scott Room)18 Holyrood Park RoadNewingtonEdinburghEH16 5AY                    Tel.:  0131 651 2198(24-hour Reception in Masson House)    Course presentersThe course is presented by Simon Inger and Tracy Gardner from Renew Training who between them have over 40 years’ experience in scholarly publishing. Feedback from ERTU courses held in 2013“Content intensive with informative presenters creating an atmosphere to include questioning and discussion.” “I attended this course last year when I was new to e-resources; this year I got so much more out of it as I was able to engage on a different level.  Really useful day.” “Excellent.” Course contentPlease refer to the schedule for the day.  The course is continually updated\, but core content will include: Classifying E-Resources•    Understanding the types of e-resources available and how they all fit together\, including: publisher websites\, aggregators\, search engines\, library resource discovery services\, abstracting and indexing services\, and social media.Reader Behaviour•    Understanding reader choice in information discovery•    Popular apps for readers.Managing User Navigation•    Linking through URL and OpenURL\, the development and importance of Link Servers•    The role of library web pages in resource discovery.Managing Authentication•    User authentication methodologies\, including: IP address ranges\, proxies\, Athens and Shibboleth\, single sign-on (SSO)•    Defining and understanding authentication scenarios. How to bookBooking has now closed for this event.  For further information please contact Karen Sadler by email or by phone +44(0)1865 310834 Venue location details will be sent with confirmation of booking. CancellationsBy Wednesday 4 June 2014 – full refundFrom Thursday 5 June 2014 – no refund NB:  UKSG reserves the right to alter or vary the programme due to events or circumstances beyond its reasonable control without being obliged to refund monies.
URL:https://www.uksg.org/events/uksg-e-resources-technical-update-edinburgh-2/
CATEGORIES:Conference
ATTACH;FMTTYPE=:
END:VEVENT
BEGIN:VEVENT
DTSTART;TZID=Europe/London:20140611T130000
DTEND;TZID=Europe/London:20140611T130000
DTSTAMP:20260424T065023
CREATED:20241008T115735Z
LAST-MODIFIED:20241008T190605Z
UID:15344-1402491600-1402491600@www.uksg.org
SUMMARY:Free UKSG webinar - Doing Away with the Library Catalogue
DESCRIPTION:  In 2012 we made some bold and unconventional decisions at Utrecht University Library in The Netherlands: shut down the custom-made discovery system Omega\, not to implement another library discovery service and focus predominantly on delivery.    Fresh from her well-received and thought-provoking talk at the UKSG 2014 Conference in Harrogate\, Simone Kortekaas reprises her conference presentation with the advantage of an interactive Q&A session.   More information and registration.
URL:https://www.uksg.org/events/free-uksg-webinar-doing-away-with-the-library-catalogue/
CATEGORIES:Conference
ATTACH;FMTTYPE=:
END:VEVENT
END:VCALENDAR