BEGIN:VCALENDAR
VERSION:2.0
PRODID:-//UKSG - ECPv6.15.20//NONSGML v1.0//EN
CALSCALE:GREGORIAN
METHOD:PUBLISH
X-WR-CALNAME:UKSG
X-ORIGINAL-URL:https://www.uksg.org
X-WR-CALDESC:Events for UKSG
REFRESH-INTERVAL;VALUE=DURATION:PT1H
X-Robots-Tag:noindex
X-PUBLISHED-TTL:PT1H
BEGIN:VTIMEZONE
TZID:Europe/London
BEGIN:DAYLIGHT
TZOFFSETFROM:+0000
TZOFFSETTO:+0100
TZNAME:BST
DTSTART:20130331T010000
END:DAYLIGHT
BEGIN:STANDARD
TZOFFSETFROM:+0100
TZOFFSETTO:+0000
TZNAME:GMT
DTSTART:20131027T010000
END:STANDARD
BEGIN:DAYLIGHT
TZOFFSETFROM:+0000
TZOFFSETTO:+0100
TZNAME:BST
DTSTART:20140330T010000
END:DAYLIGHT
BEGIN:STANDARD
TZOFFSETFROM:+0100
TZOFFSETTO:+0000
TZNAME:GMT
DTSTART:20141026T010000
END:STANDARD
BEGIN:DAYLIGHT
TZOFFSETFROM:+0000
TZOFFSETTO:+0100
TZNAME:BST
DTSTART:20150329T010000
END:DAYLIGHT
BEGIN:STANDARD
TZOFFSETFROM:+0100
TZOFFSETTO:+0000
TZNAME:GMT
DTSTART:20151025T010000
END:STANDARD
END:VTIMEZONE
BEGIN:VEVENT
DTSTART;TZID=Europe/London:20140326T150000
DTEND;TZID=Europe/London:20140326T150000
DTSTAMP:20260424T103814
CREATED:20241008T115750Z
LAST-MODIFIED:20241008T190427Z
UID:15352-1395846000-1395846000@www.uksg.org
SUMMARY:Free UKSG webinar - Funding Body Open Access Requirements
DESCRIPTION:This Webinar will provide delegates with an overview of the Wellcome Trust and RCUK OA policies.  It will discuss current levels of compliance\, and key issues which need to be addressed if full OA is going to be realised.  The Webinar will also discuss the recent study\, led by the Wellcome Trust\, which looked at what levers funders could pull to help encourage the development of an effective OA market for article processing charges. Click here for more information and to register.
URL:https://www.uksg.org/events/free-uksg-webinar-funding-body-open-access-requirements/
CATEGORIES:Conference
ATTACH;FMTTYPE=:
END:VEVENT
END:VCALENDAR