BEGIN:VCALENDAR
VERSION:2.0
PRODID:-//UKSG - ECPv6.15.20//NONSGML v1.0//EN
CALSCALE:GREGORIAN
METHOD:PUBLISH
X-ORIGINAL-URL:https://www.uksg.org
X-WR-CALDESC:Events for UKSG
REFRESH-INTERVAL;VALUE=DURATION:PT1H
X-Robots-Tag:noindex
X-PUBLISHED-TTL:PT1H
BEGIN:VTIMEZONE
TZID:Europe/London
BEGIN:DAYLIGHT
TZOFFSETFROM:+0000
TZOFFSETTO:+0100
TZNAME:BST
DTSTART:20120325T010000
END:DAYLIGHT
BEGIN:STANDARD
TZOFFSETFROM:+0100
TZOFFSETTO:+0000
TZNAME:GMT
DTSTART:20121028T010000
END:STANDARD
BEGIN:DAYLIGHT
TZOFFSETFROM:+0000
TZOFFSETTO:+0100
TZNAME:BST
DTSTART:20130331T010000
END:DAYLIGHT
BEGIN:STANDARD
TZOFFSETFROM:+0100
TZOFFSETTO:+0000
TZNAME:GMT
DTSTART:20131027T010000
END:STANDARD
BEGIN:DAYLIGHT
TZOFFSETFROM:+0000
TZOFFSETTO:+0100
TZNAME:BST
DTSTART:20140330T010000
END:DAYLIGHT
BEGIN:STANDARD
TZOFFSETFROM:+0100
TZOFFSETTO:+0000
TZNAME:GMT
DTSTART:20141026T010000
END:STANDARD
END:VTIMEZONE
BEGIN:VEVENT
DTSTART;TZID=Europe/London:20130904T090000
DTEND;TZID=Europe/London:20130904T090000
DTSTAMP:20260424T185717
CREATED:20241008T120232Z
LAST-MODIFIED:20241008T190153Z
UID:15412-1378285200-1378285200@www.uksg.org
SUMMARY:Free UKSG Webinar: What is Research Data Management and what is the Library's Role in Supporting it?
DESCRIPTION:Our next webinar is hosted by Andrew Cox\, Lecturer\, The Information School\, University of Sheffield and we are delighted to offer it free of charge. The webinar introduces the issue of RDM\, libraries’ roles in supporting RDM and is an opportunity for you to think about how RDM might open up new opportunities for you. It concludes with a quick guide to key resources to find out more\, including detail of RDMRose\, a JISC funded free to use and reuse set of learning materials for self directed or facilitated CPD on RDM tailored for information professionals. For more information and to register\, please click here.
URL:https://www.uksg.org/events/free-uksg-webinar-what-is-research-data-management-and-what-is-the-librarys-role-in-supporting-it/
CATEGORIES:Conference
ATTACH;FMTTYPE=:
END:VEVENT
END:VCALENDAR