BEGIN:VCALENDAR
VERSION:2.0
PRODID:-//UKSG - ECPv6.15.20//NONSGML v1.0//EN
CALSCALE:GREGORIAN
METHOD:PUBLISH
X-ORIGINAL-URL:https://www.uksg.org
X-WR-CALDESC:Events for UKSG
REFRESH-INTERVAL;VALUE=DURATION:PT1H
X-Robots-Tag:noindex
X-PUBLISHED-TTL:PT1H
BEGIN:VTIMEZONE
TZID:Europe/London
BEGIN:DAYLIGHT
TZOFFSETFROM:+0000
TZOFFSETTO:+0100
TZNAME:BST
DTSTART:20120325T010000
END:DAYLIGHT
BEGIN:STANDARD
TZOFFSETFROM:+0100
TZOFFSETTO:+0000
TZNAME:GMT
DTSTART:20121028T010000
END:STANDARD
BEGIN:DAYLIGHT
TZOFFSETFROM:+0000
TZOFFSETTO:+0100
TZNAME:BST
DTSTART:20130331T010000
END:DAYLIGHT
BEGIN:STANDARD
TZOFFSETFROM:+0100
TZOFFSETTO:+0000
TZNAME:GMT
DTSTART:20131027T010000
END:STANDARD
BEGIN:DAYLIGHT
TZOFFSETFROM:+0000
TZOFFSETTO:+0100
TZNAME:BST
DTSTART:20140330T010000
END:DAYLIGHT
BEGIN:STANDARD
TZOFFSETFROM:+0100
TZOFFSETTO:+0000
TZNAME:GMT
DTSTART:20141026T010000
END:STANDARD
END:VTIMEZONE
BEGIN:VEVENT
DTSTART;TZID=Europe/London:20130306T140000
DTEND;TZID=Europe/London:20130306T140000
DTSTAMP:20260425T021432
CREATED:20241008T120929Z
LAST-MODIFIED:20241008T185951Z
UID:15636-1362578400-1362578400@www.uksg.org
SUMMARY:Recorded Webinar Series - Session One\, Introduction to UKSG
DESCRIPTION:The launch of a new series of webinars\, which aim to bring our most popular face-to-face seminars into a virtual environment. The main webinars are to be preceded by three complimentary\, thirty minute sessions\, to give delegates useful background knowledge about UKSG\, its members and two of its key projects\, KBART and Title Transfer. Why you should listenDesigned particularly for staff new to working in the industry\, whether from a publisher\, an intermediary or a library\, the webinar may also be of interest to those looking to update their knowledge about UKSG. Course level and previous knowledge requiredIntroductory and non-intensive\, entry-level training for the beginner\, novice or returner. Session 1\, Wednesday 6 March 2013\, 14:00: Introduction to UKSG Hosted by Carolyn Alderson\, UKSG Education Officer and Acting Head of Licensing\, JISC Collections LISTEN AND DOWNLOAD THE RECORDED WEBINAR HERE* *Please fast forward seven minutes\, as the welcome screen appears for some time before Carolyn’s presentation. Many thanks.  
URL:https://www.uksg.org/events/recorded-webinar-series-session-one-introduction-to-uksg/
CATEGORIES:Conference
ATTACH;FMTTYPE=:
END:VEVENT
BEGIN:VEVENT
DTSTART;TZID=Europe/London:20130306T140000
DTEND;TZID=Europe/London:20130306T140000
DTSTAMP:20260425T021432
CREATED:20241008T120929Z
LAST-MODIFIED:20241008T190006Z
UID:15637-1362578400-1362578400@www.uksg.org
SUMMARY:Recorded Webinar Series - Session One\, Introduction to UKSG
DESCRIPTION:The launch of a new series of webinars\, which aim to bring our most popular face-to-face seminars into a virtual environment. The main webinars are to be preceded by three complimentary\, thirty minute sessions\, to give delegates useful background knowledge about UKSG\, its members and two of its key projects\, KBART and Title Transfer. Why you should listenDesigned particularly for staff new to working in the industry\, whether from a publisher\, an intermediary or a library\, the webinar may also be of interest to those looking to update their knowledge about UKSG. Course level and previous knowledge requiredIntroductory and non-intensive\, entry-level training for the beginner\, novice or returner. Session 1\, Wednesday 6 March 2013\, 14:00: Introduction to UKSG Hosted by Carolyn Alderson\, UKSG Education Officer and Acting Head of Licensing\, JISC Collections LISTEN AND DOWNLOAD THE RECORDED WEBINAR HERE* *Please fast forward seven minutes\, as the welcome screen appears for some time before Carolyn’s presentation. Many thanks.  
URL:https://www.uksg.org/events/recorded-webinar-series-session-one-introduction-to-uksg-2/
CATEGORIES:Conference
ATTACH;FMTTYPE=:
END:VEVENT
BEGIN:VEVENT
DTSTART;TZID=Europe/London:20130314T140000
DTEND;TZID=Europe/London:20130314T140000
DTSTAMP:20260425T021432
CREATED:20241008T120929Z
LAST-MODIFIED:20241008T190020Z
UID:15639-1363269600-1363269600@www.uksg.org
SUMMARY:Recorded Webinar Series - Session TWO\, UKSG Project: KBART
DESCRIPTION:2013 sees the launch of a new series of webinars\, which aim to bring our most popular face-to-face seminars into a virtual environment. The main webinars were preceded by three complimentary\, thirty minute sessions\, to give delegates useful background knowledge about UKSG\, its members and two of its key projects\, KBART and Title Transfer. Why you should listenDesigned particularly for staff new to working in the industry\, whether from a publisher\, an intermediary or a library\, the webinar may also be of interest to those looking to update their knowledge about UKSG. Course level and previous knowledge requiredIntroductory and non-intensive\, entry-level training for the beginner\, novice or returner. Session 2\, Thursday 14 March 2013: UKSG Project: KBART Hosted by Sarah Price\, UKSG Research Subcommittee (KBART) and Assistant Director\, Collection Management and Development\, University of Birmingham LISTEN AND DOWNLOAD THE RECORDED WEBINAR HERE
URL:https://www.uksg.org/events/recorded-webinar-series-session-two-uksg-project-kbart/
CATEGORIES:Conference
ATTACH;FMTTYPE=:
END:VEVENT
BEGIN:VEVENT
DTSTART;TZID=Europe/London:20130321T140000
DTEND;TZID=Europe/London:20130321T140000
DTSTAMP:20260425T021432
CREATED:20241008T120929Z
LAST-MODIFIED:20241008T190020Z
UID:15638-1363874400-1363874400@www.uksg.org
SUMMARY:Recorded Webinar Series - Session Three\, UKSG Project: Title Transfer
DESCRIPTION:2013 sees the launch of a new series of webinars\, which aim to bring our most popular face-to-face seminars into a virtual environment. The main webinars were preceded by three complimentary\, thirty minute sessions\, to give delegates useful background knowledge about UKSG\, its members and two of its key projects\, KBART and Title Transfer. Why you should listenDesigned particularly for staff new to working in the industry\, whether from a publisher\, an intermediary or a library\, the webinar may also be of interest to those looking to update their knowledge about UKSG. Course level and previous knowledge requiredIntroductory and non-intensive\, entry-level training for the beginner\, novice or returner. Session 3\, Thursday 21 March 2013: UKSG Project: Title Transfer Hosted by Ed Pentz\, UKSG Research Officer and Executive Director\, CrossRef LISTEN AND DOWNLOAD THE RECORDED WEBINAR HERE
URL:https://www.uksg.org/events/recorded-webinar-series-session-three-uksg-project-title-transfer/
CATEGORIES:Conference
ATTACH;FMTTYPE=:
END:VEVENT
END:VCALENDAR