BEGIN:VCALENDAR
VERSION:2.0
PRODID:-//UKSG - ECPv6.15.20//NONSGML v1.0//EN
CALSCALE:GREGORIAN
METHOD:PUBLISH
X-ORIGINAL-URL:https://www.uksg.org
X-WR-CALDESC:Events for UKSG
REFRESH-INTERVAL;VALUE=DURATION:PT1H
X-Robots-Tag:noindex
X-PUBLISHED-TTL:PT1H
BEGIN:VTIMEZONE
TZID:Europe/London
BEGIN:DAYLIGHT
TZOFFSETFROM:+0000
TZOFFSETTO:+0100
TZNAME:BST
DTSTART:20100328T010000
END:DAYLIGHT
BEGIN:STANDARD
TZOFFSETFROM:+0100
TZOFFSETTO:+0000
TZNAME:GMT
DTSTART:20101031T010000
END:STANDARD
BEGIN:DAYLIGHT
TZOFFSETFROM:+0000
TZOFFSETTO:+0100
TZNAME:BST
DTSTART:20110327T010000
END:DAYLIGHT
BEGIN:STANDARD
TZOFFSETFROM:+0100
TZOFFSETTO:+0000
TZNAME:GMT
DTSTART:20111030T010000
END:STANDARD
BEGIN:DAYLIGHT
TZOFFSETFROM:+0000
TZOFFSETTO:+0100
TZNAME:BST
DTSTART:20120325T010000
END:DAYLIGHT
BEGIN:STANDARD
TZOFFSETFROM:+0100
TZOFFSETTO:+0000
TZNAME:GMT
DTSTART:20121028T010000
END:STANDARD
END:VTIMEZONE
BEGIN:VEVENT
DTSTART;TZID=Europe/London:20111124T090000
DTEND;TZID=Europe/London:20111124T090000
DTSTAMP:20260425T222943
CREATED:20241008T133341Z
LAST-MODIFIED:20241008T185344Z
UID:15914-1322125200-1322125200@www.uksg.org
SUMMARY:UKSG E-Resources Technical Update: London
DESCRIPTION:Course summaryMany of us working directly with e-resources in libraries would like to feel more confident in our understanding of the related technology.  Managing e-resources and making them available to end-users is quite different from dealing with print products\, but many of us have moved from one to the other\, picking up expertise informally.  As a result we probably all have gaps in our knowledge and understanding\, and the need to gain a proper balanced overview of the technical environment is crucial if we are to do our jobs effectively. The UKSG E-Resources Technical Update course will give you a good understanding of the underlying technicalities involved in e-resource set-up and delivery\, including e-journals\, online databases and e-books\, and will help you feel more confident in your day-to-day work. Why you should attendThe course will be invaluable for anyone from a non-technical background working with e-journals and other e-resources.  The atmosphere of the day will be friendly and supportive and participants will be encouraged to share any issues or problems they encounter in their work. Course level and previous knowledge requiredIt is recommended that those completely new to dealing with journals should first attend the UKSG Introduction to Serials and E-Resources Today\, a one-day seminar run in a variety of locations which covers all aspects of the serials and e-resources industry and features an introductory technical session.  If you are not completely new to journals no previous knowledge is required. Learning objectives• Learn how to overcome common problems in implementing e-resources• Have the tools to help you decide the best way of setting up access to e-resources in your institution/organisation• Be confident that you understand the technical landscape when dealing with e-resource providers. Fee UKSG members:  £190.00 + £38.00 VAT [20%] (total £228.00) Non-members:   £260.00 + £52.00 VAT [20%] (total £312.00)The fee includes refreshments and lunch. Venue The Institute of Materials\, Minerals and Mining (Library)1 Carlton House TerraceLondonSW1Y 5DBTel.:  020 7451 7300 (Reception) Feedback from ERTU courses held in 2010“Good level of explanation and relevance\, with very clear and informative handouts.” “Really impressed with the presenters’ delivery\, content and clarity.” “I found the course very helpful in explaining terms.  It was pitched at just the right level.”“Excellent – all talks structured to blend and lead into one another.” “So much information and so much knowledge – we need more of you!” Course contentThe course is continually updated\, but core content will include: Classifying E-Resources• Identifying the major players involved in e-resource provision• The differences between gateways\, platforms\, publisher websites\, aggregators\, search engine-based gateways and library gateways. Reader Behaviour• Where do users choose to begin their research?• What are the differences in preferred starting points for researchers and undergraduates?• Advances in user navigation.Managing User Navigation• Linking through URL and OpenURL\, the development and importance of Link Servers• The role of library web pages\, OPACs\, A-Z lists\, federated search and web scale discovery• Accessing Open Access content.Managing Authentication• User authentication methodologies• IP address ranges\, proxies and firewalls• Athens\, federated access and Shibboleth• OpenID developments. How to bookThe booking date for this course has now passed.  For further information please contact Karen Sadler by email or by telephone: +44 (0)1865 310834 . Venue location details will be sent with confirmation of booking. CancellationsBy Wednesday 16 November 2011 – full refundFrom Thursday 17 November 2011 – no refundNB:  UKSG reserves the right to alter or vary the programme due to events or circumstances beyond its reasonable control without being obliged to refund monies.
URL:https://www.uksg.org/events/uksg-e-resources-technical-update-london-4/
CATEGORIES:Conference
ATTACH;FMTTYPE=:
END:VEVENT
END:VCALENDAR